Workbook

Sheet TOTAL ENTIDADES DE CRÉDITO
B2: CARTERA VIVA DE CRÉDITO HIPOTECARIO Y TÍTULOS HIPOTECARIOS (mill. Euros)
B3: Crédito hipotecario con garantía inmobiliaria | D3: Saldo vivo de Cédulas hipotecarias (CH) | F3: Saldo vivo de Bonos hipotecarios | G3: Saldo vivo de Participaciones Hipotecarias | H3: Saldo vivo de CTH
C4: Del que dudoso… | E4: De los cuales retenidos
A5: 43070 | B5: ='BANCOS Y CAJAS'!B5+COOPERATIVAS!B5 -> 682816.93 | C5: - | D5: ='BANCOS Y CAJAS'!D5+COOPERATIVAS!D5 -> 229199.74 | E5: =IFERROR('BANCOS Y CAJAS'!E5+COOPERATIVAS!E5,"-") -> - | F5: - | G5: ='BANCOS Y CAJAS'!G5+COOPERATIVAS!G5 -> 13433.326 | H5: ='BANCOS Y CAJAS'!H5+COOPERATIVAS!H5 -> 101414.94
A6: 43252 | B6: ='BANCOS Y CAJAS'!B6+COOPERATIVAS!B6 -> 674564.61 | C6: - | D6: ='BANCOS Y CAJAS'!D6+COOPERATIVAS!D6 -> 209798.25 | E6: =IFERROR('BANCOS Y CAJAS'!E6+COOPERATIVAS!E6,"-") -> - | F6: - | G6: ='BANCOS Y CAJAS'!G6+COOPERATIVAS!G6 -> 13330.211 | H6: ='BANCOS Y CAJAS'!H6+COOPERATIVAS!H6 -> 95932.924
A7: 43435 | B7: ='BANCOS Y CAJAS'!B7+COOPERATIVAS!B7 -> 660687 | C7: - | D7: ='BANCOS Y CAJAS'!D7+COOPERATIVAS!D7 -> 218889.09 | E7: =IFERROR('BANCOS Y CAJAS'!E7+COOPERATIVAS!E7,"-") -> - | F7: - | G7: ='BANCOS Y CAJAS'!G7+COOPERATIVAS!G7 -> 16559.891 | H7: ='BANCOS Y CAJAS'!H7+COOPERATIVAS!H7 -> 89132.217
A8: 43617 | B8: ='BANCOS Y CAJAS'!B8+COOPERATIVAS!B8 -> 654687.99 | C8: - | D8: ='BANCOS Y CAJAS'!D8+COOPERATIVAS!D8 -> 215045.1 | E8: =IFERROR('BANCOS Y CAJAS'!E8+COOPERATIVAS!E8,"-") -> - | F8: - | G8: ='BANCOS Y CAJAS'!G8+COOPERATIVAS!G8 -> 16432.862 | H8: ='BANCOS Y CAJAS'!H8+COOPERATIVAS!H8 -> 84094.477
A9: 43800 | B9: ='BANCOS Y CAJAS'!B9+COOPERATIVAS!B9 -> 645385.05 | C9: - | D9: ='BANCOS Y CAJAS'!D9+COOPERATIVAS!D9 -> 221464.91 | E9: =IFERROR('BANCOS Y CAJAS'!E9+COOPERATIVAS!E9,"-") -> - | F9: - | G9: ='BANCOS Y CAJAS'!G9+COOPERATIVAS!G9 -> 14638.959 | H9: ='BANCOS Y CAJAS'!H9+COOPERATIVAS!H9 -> 83802.666
A10: 43983 | B10: ='BANCOS Y CAJAS'!B10+COOPERATIVAS!B10 -> 637780.16 | C10: - | D10: ='BANCOS Y CAJAS'!D10+COOPERATIVAS!D10 -> 229415.26 | E10: =IFERROR('BANCOS Y CAJAS'!E10+COOPERATIVAS!E10,"-") -> - | F10: - | G10: ='BANCOS Y CAJAS'!G10+COOPERATIVAS!G10 -> 13586.789 | H10: ='BANCOS Y CAJAS'!H10+COOPERATIVAS!H10 -> 81111.883
A11: 44166 | B11: ='BANCOS Y CAJAS'!B11+COOPERATIVAS!B11 -> 632475.02 | C11: - | D11: ='BANCOS Y CAJAS'!D11+COOPERATIVAS!D11 -> 221927.12 | E11: =IFERROR('BANCOS Y CAJAS'!E11+COOPERATIVAS!E11,"-") -> - | F11: - | G11: ='BANCOS Y CAJAS'!G11+COOPERATIVAS!G11 -> 12597.48 | H11: ='BANCOS Y CAJAS'!H11+COOPERATIVAS!H11 -> 81579.215
A12: 44348 | B12: ='BANCOS Y CAJAS'!B12+COOPERATIVAS!B12 -> 631345.4 | C12: - | D12: ='BANCOS Y CAJAS'!D12+COOPERATIVAS!D12 -> 214474.61 | E12: =IFERROR('BANCOS Y CAJAS'!E12+COOPERATIVAS!E12,"-") -> - | F12: - | G12: ='BANCOS Y CAJAS'!G12+COOPERATIVAS!G12 -> 11544.832 | H12: ='BANCOS Y CAJAS'!H12+COOPERATIVAS!H12 -> 69418.659
A13: 44531 | B13: ='BANCOS Y CAJAS'!B13+COOPERATIVAS!B13 -> 626846.96 | C13: - | D13: ='BANCOS Y CAJAS'!D13+COOPERATIVAS!D13 -> 217377.2 | E13: =IFERROR('BANCOS Y CAJAS'!E13+COOPERATIVAS!E13,"-") -> - | F13: - | G13: ='BANCOS Y CAJAS'!G13+COOPERATIVAS!G13 -> 10640.518 | H13: ='BANCOS Y CAJAS'!H13+COOPERATIVAS!H13 -> 70281.758
A14: 44713 | B14: ='BANCOS Y CAJAS'!B14+COOPERATIVAS!B14 -> 624832.85 | C14: - | D14: ='BANCOS Y CAJAS'!D14+COOPERATIVAS!D14 -> 218849.38 | E14: =IFERROR('BANCOS Y CAJAS'!E14+COOPERATIVAS!E14,"-") -> - | F14: - | G14: ='BANCOS Y CAJAS'!G14+COOPERATIVAS!G14 -> 15530.311 | H14: ='BANCOS Y CAJAS'!H14+COOPERATIVAS!H14 -> 61780.37
A15: 44896 | B15: ='BANCOS Y CAJAS'!B15+COOPERATIVAS!B15 -> 618394.69 | C15: - | D15: ='BANCOS Y CAJAS'!D15+COOPERATIVAS!D15 -> 189751.97 | E15: =IFERROR('BANCOS Y CAJAS'!E15+COOPERATIVAS!E15,"-") -> - | F15: - | G15: ='BANCOS Y CAJAS'!G15+COOPERATIVAS!G15 -> 14215.07 | H15: ='BANCOS Y CAJAS'!H15+COOPERATIVAS!H15 -> 58871.683
A16: 45078 | B16: ='BANCOS Y CAJAS'!B16+COOPERATIVAS!B16 -> 606491.24 | C16: - | D16: ='BANCOS Y CAJAS'!D16+COOPERATIVAS!D16 -> 197248.58 | E16: =IFERROR('BANCOS Y CAJAS'!E16+COOPERATIVAS!E16,"-") -> 117585.36 | F16: - | G16: ='BANCOS Y CAJAS'!G16+COOPERATIVAS!G16 -> 17118.386 | H16: ='BANCOS Y CAJAS'!H16+COOPERATIVAS!H16 -> 70392.027
... A21: 45992 | B21: ='BANCOS Y CAJAS'!B21+COOPERATIVAS!B21 -> 618973.54 | C21: - | D21: ='BANCOS Y CAJAS'!D21+COOPERATIVAS!D21 -> 186271.12 | E21: =IFERROR('BANCOS Y CAJAS'!E21+COOPERATIVAS!E21,"-") -> 131092.99 | F21: - | G21: ='BANCOS Y CAJAS'!G21+COOPERATIVAS!G21 -> 11031.372 | H21: ='BANCOS Y CAJAS'!H21+COOPERATIVAS!H21 -> 55298.837
B24: NOTA. NUEVA SERIE BANCO DE ESPAÑA:
B26: SERIE SALDO VIVO CRÉDITO HIPOTECARIO: La entrada en vigor de la Circular 2/2020, de 11 de junio, por la que se modifica la Circular 4/2017, de 27 de noviembre, a entidades de crédito, sobre normas de información financiera pública y reservada, y modelos de estados financieros, ha establecido la supresión de los estados FI 160-1, FI 160-2 y FI 160-4, que eran la fuente primaria de información del epígrafe del crédito hipotecario a OSR (Otros sectores residentes) con garantía hipotecaria. Esta circular tiene como objeto adoptar los cambios del ordenamiento internacional sobre requerimientos de información a las entidades de crédito.
B30: En virtud de la misma, se ha producido una ligera variación respecto a la información que veníamos facilitando en ese capítulo, cuyo detalle se expone a continuación:
B31: · El dato incluye el crédito gestionado frente al criterio anterior que no incluía el volumen de titulizaciones hipotecarias mantenidas fuera del balance
B32: · El dato recoge el detalle de Hogares, SNF y empresarios individuales, y Otras sociedades y empresarios individuales con actividad empresarial financiera, pero no incluye ISFLSH a diferencia del criterio anterior.
B33: Estos cambios se han hecho efectivos desde el dato de diciembre de 2020 inclusive en adelante. Para más información consultar la nota metodológica publicada en nuestra web en el apartado de Estadísticas-Boletín estadístico.
B35: SERIE SALDO CÉDULAS Y TITULIZACIONES HIPOTECARIAS: Para adaptar el contenido estadístico a los cambios incorporados tras la entrada en vigor del Real Decreto-ley 24/2021, de 2 de noviembre, de transposición de la directiva en materia de bonos garantizados, se aprobó la Circular 1/2023, que modifica la Circular 4/2017, de 27 de noviembre. Esta nueva circular, regula la información que se ha de remitir al Banco de España sobre bonos garantizados y otros instrumentos de movilización de préstamos, y es la fuente de información de esta estadística desde el año 2023.
B40: Los nuevos estados financieros presentan una ligera variación respecto a la información anterior:
B41: · El dato incluye todos los préstamos transferidos que respaldan la emisión de las titulizaciones hipotecarias, aunque la entidad los haya dado de baja del balance.

Sheet BANCOS Y CAJAS
B2: CARTERA VIVA DE CRÉDITO HIPOTECARIO Y TÍTULOS HIPOTECARIOS (mill. Euros)
B3: Crédito hipotecario con garantía inmobiliaria | D3: Saldo vivo de Cédulas hipotecarias (CH) | F3: Saldo vivo de Bonos hipotecarios | G3: Saldo vivo de Participaciones Hipotecarias | H3: Saldo vivo de CTH
C4: Del que dudoso… | E4: De los cuales retenidos
A5: 43070 | B5: 623982.78 | C5: - | D5: 218876.91 | E5: - | F5: - | G5: 12088.041 | H5: 97075.212
A6: 43252 | B6: 615731.24 | C6: - | D6: 199275.43 | E6: - | F6: - | G6: 12129.689 | H6: 91511.318
A7: 43435 | B7: 602037.9 | C7: - | D7: 208816.27 | E7: - | F7: - | G7: 14394.205 | H7: 84779.089
A8: 43617 | B8: 595525.93 | C8: - | D8: 204972.27 | E8: - | F8: - | G8: 14411.809 | H8: 79760.825
A9: 43800 | B9: 586244.66 | C9: - | D9: 211567.08 | E9: - | F9: - | G9: 12407.611 | H9: 79329.75
A10: 43983 | B10: 578764.24 | C10: - | D10: 218117.43 | E10: - | F10: - | G10: 11544.244 | H10: 76856.854
A11: 44166 | B11: 573393.92 | C11: - | D11: 210602.12 | E11: - | F11: - | G11: 10739.709 | H11: 77637.263
A12: 44348 | B12: 571150.25 | C12: - | D12: 204274.61 | E12: - | F12: - | G12: 9828.468 | H12: 66030.873
A13: 44531 | B13: 565306.03 | C13: - | D13: 206477.2 | E13: - | F13: - | G13: 9099.404 | H13: 67103.459
A14: 44713 | B14: 562206.42 | C14: - | D14: 208699.38 | E14: - | F14: - | G14: 14079.947 | H14: 58598.931
A15: 44896 | B15: 556214.93 | C15: - | D15: 179901.97 | E15: - | F15: - | G15: 12879.563 | H15: 55921.903
A16: 45078 | B16: 544671.77 | C16: - | D16: 185762.08 | E16: 110570.63 | F16: - | G16: 15378.156 | H16: 67768.354
A17: 45261 | B17: 537745.69 | C17: - | D17: 178957.21 | E17: 106485.95 | F17: - | G17: 14101.894 | H17: 65961.625
A18: 45444 | B18: 534650.94 | C18: - | D18: 176832.53 | E18: 107969.65 | F18: - | G18: 12979.263 | H18: 63623.981
A19: 45627 | B19: 535963.86 | C19: - | D19: 177853.49 | E19: 110114.12 | F19: - | G19: 10750.084 | H19: 59977.557
A20: 45809 | B20: 541529.05 | C20: - | D20: 175976.48 | E20: 123744.75 | F20: - | G20: 10629.923 | H20: 56624.963
A21: 45992 | B21: 550402.8 | C21: - | D21: 175871.47 | E21: 124808.74 | F21: - | G21: 9942.464 | H21: 54368.456

Sheet COOPERATIVAS
B2: CARTERA VIVA DE CRÉDITO HIPOTECARIO Y TÍTULOS HIPOTECARIOS (mill. Euros)
B3: Crédito hipotecario con garantía inmobiliaria | D3: Saldo vivo de Cédulas hipotecarias (CH) | F3: Saldo vivo de Bonos hipotecarios | G3: Saldo vivo de Participaciones Hipotecarias | H3: Saldo vivo de CTH
C4: Del que dudoso… | E4: De los cuales retenidos
A5: 43070 | B5: 58834.15 | C5: - | D5: 10322.825 | E5: - | F5: - | G5: 1345.285 | H5: 4339.724
A6: 43252 | B6: 58833.37 | C6: - | D6: 10522.825 | E6: - | F6: - | G6: 1200.522 | H6: 4421.606
A7: 43435 | B7: 58649.102 | C7: - | D7: 10072.825 | E7: - | F7: - | G7: 2165.686 | H7: 4353.128
A8: 43617 | B8: 59162.061 | C8: - | D8: 10072.825 | E8: - | F8: - | G8: 2021.053 | H8: 4333.652
A9: 43800 | B9: 59140.392 | C9: - | D9: 9897.825 | E9: - | F9: - | G9: 2231.348 | H9: 4472.916
A10: 43983 | B10: 59015.92 | C10: - | D10: 11297.825 | E10: - | F10: - | G10: 2042.545 | H10: 4255.029
A11: 44166 | B11: 59081.098 | C11: - | D11: 11325 | E11: - | F11: - | G11: 1857.771 | H11: 3941.952
A12: 44348 | B12: 60195.149 | C12: - | D12: 10200 | E12: - | F12: - | G12: 1716.364 | H12: 3387.786
A13: 44531 | B13: 61540.933 | C13: - | D13: 10900 | E13: - | F13: - | G13: 1541.114 | H13: 3178.299
A14: 44713 | B14: 62626.432 | C14: - | D14: 10150 | E14: - | F14: - | G14: 1450.364 | H14: 3181.439
A15: 44896 | B15: 62179.756 | C15: - | D15: 9850 | E15: - | F15: - | G15: 1335.507 | H15: 2949.78
A16: 45078 | B16: 61819.464 | C16: - | D16: 11486.502 | E16: 7014.729 | F16: - | G16: 1740.23 | H16: 2623.673
A17: 45261 | B17: 61739.724 | C17: - | D17: 11021.871 | E17: 7021.287 | F17: - | G17: 1515.645 | H17: 2512.334
A18: 45444 | B18: 62214.032 | C18: - | D18: 11707.953 | E18: 7524.795 | F18: - | G18: 1502.632 | H18: 1802.549
A19: 45627 | B19: 63474.343 | C19: - | D19: 10749.233 | E19: 6540.548 | F19: - | G19: 1349.362 | H19: 1695.295
A20: 45809 | B20: 65964.097 | C20: - | D20: 10362.087 | E20: 6275.76 | F20: - | G20: 1236.658 | H20: 1498.498
A21: 45992 | B21: 68570.734 | C21: - | D21: 10399.644 | E21: 6284.252 | F21: - | G21: 1088.908 | H21: 930.381
