Workbook

Sheet TOTAL
A1: Crédito inmobiliario por finanalidades. Entidades de crédito y EFCs (Millones de Euros)
A3: FECHAS | B3: CRÉDITO PARA FINANCIAR ACTIVOS INMOBILIARIOS (Mill. Euros)
B4: TOTAL | D4: CONSTRUCCIÓN | F4: CONSTRUCCIÓN (SIN OBRAS PÚBLICAS) | H4: ACTIVIDADES INMOBILIARIAS | J4: HOGARES 1
C5: Del que dudosos | E5: Del que dudosos | G5: Del que dudosos | I5: Del que dudosos | K5: Del que dudosos
A6: 36770 | B6: ='Entidades de Crédito'!B6+'E.F.C'!B6 -> 238459.49 | C6: ='Entidades de Crédito'!C6+'E.F.C'!C6 -> 1668.127 | D6: ='Entidades de Crédito'!D6+'E.F.C'!D6 -> 41208.36 | E6: ='Entidades de Crédito'!E6+'E.F.C'!E6 -> 615.076 | F6: ='Entidades de Crédito'!F6+'E.F.C'!F6 -> #VALUE! | G6: ='Entidades de Crédito'!G6+'E.F.C'!G6 -> #VALUE! | H6: ='Entidades de Crédito'!H6+'E.F.C'!H6 -> 31359.842 | I6: ='Entidades de Crédito'!I6+'E.F.C'!I6 -> 248.409 | ... K6: ='Entidades de Crédito'!K6+'E.F.C'!K6 -> 804.642
A7: 36861 | B7: ='Entidades de Crédito'!B7+'E.F.C'!B7 -> 252838.97 | C7: ='Entidades de Crédito'!C7+'E.F.C'!C7 -> 1738.469 | D7: ='Entidades de Crédito'!D7+'E.F.C'!D7 -> 42627.106 | E7: ='Entidades de Crédito'!E7+'E.F.C'!E7 -> 638.136 | F7: ='Entidades de Crédito'!F7+'E.F.C'!F7 -> #VALUE! | G7: ='Entidades de Crédito'!G7+'E.F.C'!G7 -> #VALUE! | H7: ='Entidades de Crédito'!H7+'E.F.C'!H7 -> 33559.064 | I7: ='Entidades de Crédito'!I7+'E.F.C'!I7 -> 292.03 | ... K7: ='Entidades de Crédito'!K7+'E.F.C'!K7 -> 808.303
A8: 36951 | B8: ='Entidades de Crédito'!B8+'E.F.C'!B8 -> 261539.54 | C8: ='Entidades de Crédito'!C8+'E.F.C'!C8 -> 1727.432 | D8: ='Entidades de Crédito'!D8+'E.F.C'!D8 -> 42367.687 | E8: ='Entidades de Crédito'!E8+'E.F.C'!E8 -> 612.949 | F8: ='Entidades de Crédito'!F8+'E.F.C'!F8 -> #VALUE! | G8: ='Entidades de Crédito'!G8+'E.F.C'!G8 -> #VALUE! | H8: ='Entidades de Crédito'!H8+'E.F.C'!H8 -> 35982.92 | I8: ='Entidades de Crédito'!I8+'E.F.C'!I8 -> 294.088 | ... K8: ='Entidades de Crédito'!K8+'E.F.C'!K8 -> 820.395
A9: 37043 | B9: ='Entidades de Crédito'!B9+'E.F.C'!B9 -> 276426.83 | C9: ='Entidades de Crédito'!C9+'E.F.C'!C9 -> 1599.96 | D9: ='Entidades de Crédito'!D9+'E.F.C'!D9 -> 44684.025 | E9: ='Entidades de Crédito'!E9+'E.F.C'!E9 -> 521.828 | F9: ='Entidades de Crédito'!F9+'E.F.C'!F9 -> #VALUE! | G9: ='Entidades de Crédito'!G9+'E.F.C'!G9 -> #VALUE! | H9: ='Entidades de Crédito'!H9+'E.F.C'!H9 -> 38315.664 | I9: ='Entidades de Crédito'!I9+'E.F.C'!I9 -> 248.714 | ... K9: ='Entidades de Crédito'!K9+'E.F.C'!K9 -> 829.418
A10: 37135 | B10: ='Entidades de Crédito'!B10+'E.F.C'!B10 -> 282435.7 | C10: ='Entidades de Crédito'!C10+'E.F.C'!C10 -> 1663.297 | D10: ='Entidades de Crédito'!D10+'E.F.C'!D10 -> 44957.477 | E10: ='Entidades de Crédito'!E10+'E.F.C'!E10 -> 530.714 | F10: ='Entidades de Crédito'!F10+'E.F.C'!F10 -> #VALUE! | G10: ='Entidades de Crédito'!G10+'E.F.C'!G10 -> #VALUE! | H10: ='Entidades de Crédito'!H10+'E.F.C'!H10 -> 38731.312 | I10: ='Entidades de Crédito'!I10+'E.F.C'!I10 -> 259.065 | ... K10: ='Entidades de Crédito'!K10+'E.F.C'!K10 -> 873.518
A11: 37226 | B11: ='Entidades de Crédito'!B11+'E.F.C'!B11 -> 294041.87 | C11: ='Entidades de Crédito'!C11+'E.F.C'!C11 -> 1644.745 | D11: ='Entidades de Crédito'!D11+'E.F.C'!D11 -> 46411.793 | E11: ='Entidades de Crédito'!E11+'E.F.C'!E11 -> 495.357 | F11: ='Entidades de Crédito'!F11+'E.F.C'!F11 -> #VALUE! | G11: ='Entidades de Crédito'!G11+'E.F.C'!G11 -> #VALUE! | H11: ='Entidades de Crédito'!H11+'E.F.C'!H11 -> 41839.78 | I11: ='Entidades de Crédito'!I11+'E.F.C'!I11 -> 241.642 | ... K11: ='Entidades de Crédito'!K11+'E.F.C'!K11 -> 907.746
A12: 37316 | B12: ='Entidades de Crédito'!B12+'E.F.C'!B12 -> 305435.4 | C12: ='Entidades de Crédito'!C12+'E.F.C'!C12 -> 1778.807 | D12: ='Entidades de Crédito'!D12+'E.F.C'!D12 -> 47487.1 | E12: ='Entidades de Crédito'!E12+'E.F.C'!E12 -> 513.775 | F12: ='Entidades de Crédito'!F12+'E.F.C'!F12 -> 44101.545 | G12: ='Entidades de Crédito'!G12+'E.F.C'!G12 -> #VALUE! | H12: ='Entidades de Crédito'!H12+'E.F.C'!H12 -> 43594.432 | I12: ='Entidades de Crédito'!I12+'E.F.C'!I12 -> 297.495 | ... K12: ='Entidades de Crédito'!K12+'E.F.C'!K12 -> 967.537
A13: 37408 | B13: ='Entidades de Crédito'!B13+'E.F.C'!B13 -> 322624.36 | C13: ='Entidades de Crédito'!C13+'E.F.C'!C13 -> 1846.398 | D13: ='Entidades de Crédito'!D13+'E.F.C'!D13 -> 50770.868 | E13: ='Entidades de Crédito'!E13+'E.F.C'!E13 -> 550.706 | F13: ='Entidades de Crédito'!F13+'E.F.C'!F13 -> 47361.476 | G13: ='Entidades de Crédito'!G13+'E.F.C'!G13 -> #VALUE! | H13: ='Entidades de Crédito'!H13+'E.F.C'!H13 -> 46332.168 | I13: ='Entidades de Crédito'!I13+'E.F.C'!I13 -> 280.207 | ... K13: ='Entidades de Crédito'!K13+'E.F.C'!K13 -> 1015.485
A14: 37500 | B14: ='Entidades de Crédito'!B14+'E.F.C'!B14 -> 337471.9 | C14: ='Entidades de Crédito'!C14+'E.F.C'!C14 -> 1909.041 | D14: ='Entidades de Crédito'!D14+'E.F.C'!D14 -> 53777.4 | E14: ='Entidades de Crédito'!E14+'E.F.C'!E14 -> 549.023 | F14: ='Entidades de Crédito'!F14+'E.F.C'!F14 -> 49366.643 | G14: ='Entidades de Crédito'!G14+'E.F.C'!G14 -> #VALUE! | H14: ='Entidades de Crédito'!H14+'E.F.C'!H14 -> 49026.32 | I14: ='Entidades de Crédito'!I14+'E.F.C'!I14 -> 292.342 | ... K14: ='Entidades de Crédito'!K14+'E.F.C'!K14 -> 1067.676
A15: 37591 | B15: ='Entidades de Crédito'!B15+'E.F.C'!B15 -> 347492.95 | C15: ='Entidades de Crédito'!C15+'E.F.C'!C15 -> 1800.357 | D15: ='Entidades de Crédito'!D15+'E.F.C'!D15 -> 57375.9 | E15: ='Entidades de Crédito'!E15+'E.F.C'!E15 -> 505.907 | F15: ='Entidades de Crédito'!F15+'E.F.C'!F15 -> 53008.08 | G15: ='Entidades de Crédito'!G15+'E.F.C'!G15 -> #VALUE! | H15: ='Entidades de Crédito'!H15+'E.F.C'!H15 -> 55031.304 | I15: ='Entidades de Crédito'!I15+'E.F.C'!I15 -> 267.515 | ... K15: ='Entidades de Crédito'!K15+'E.F.C'!K15 -> 1026.935
A16: 37681 | B16: ='Entidades de Crédito'!B16+'E.F.C'!B16 -> 361650.3 | C16: ='Entidades de Crédito'!C16+'E.F.C'!C16 -> 1765.943 | D16: ='Entidades de Crédito'!D16+'E.F.C'!D16 -> 56974.9 | E16: ='Entidades de Crédito'!E16+'E.F.C'!E16 -> 481.187 | F16: ='Entidades de Crédito'!F16+'E.F.C'!F16 -> 53052.016 | G16: ='Entidades de Crédito'!G16+'E.F.C'!G16 -> #VALUE! | H16: ='Entidades de Crédito'!H16+'E.F.C'!H16 -> 60177.892 | I16: ='Entidades de Crédito'!I16+'E.F.C'!I16 -> 252.826 | ... K16: ='Entidades de Crédito'!K16+'E.F.C'!K16 -> 1031.93
A17: 37773 | B17: ='Entidades de Crédito'!B17+'E.F.C'!B17 -> 381278.41 | C17: ='Entidades de Crédito'!C17+'E.F.C'!C17 -> 1745.663 | D17: ='Entidades de Crédito'!D17+'E.F.C'!D17 -> 59431.224 | E17: ='Entidades de Crédito'!E17+'E.F.C'!E17 -> 471.602 | F17: ='Entidades de Crédito'!F17+'E.F.C'!F17 -> 55188.066 | G17: ='Entidades de Crédito'!G17+'E.F.C'!G17 -> #VALUE! | H17: ='Entidades de Crédito'!H17+'E.F.C'!H17 -> 65837.124 | I17: ='Entidades de Crédito'!I17+'E.F.C'!I17 -> 271.287 | ... K17: ='Entidades de Crédito'!K17+'E.F.C'!K17 -> 1002.774
... A108: 46082 | B108: ='Entidades de Crédito'!B108+'E.F.C'!B108 -> 614016.87 | C108: ='Entidades de Crédito'!C108+'E.F.C'!C108 -> 11149.501 | D108: ='Entidades de Crédito'!D108+'E.F.C'!D108 -> 24322.376 | E108: ='Entidades de Crédito'!E108+'E.F.C'!E108 -> 1528.86 | F108: ='Entidades de Crédito'!F108+'E.F.C'!F108 -> 19222.341 | G108: ='Entidades de Crédito'!G108+'E.F.C'!G108 -> 1357.818 | H108: ='Entidades de Crédito'!H108+'E.F.C'!H108 -> 74012.355 | I108: ='Entidades de Crédito'!I108+'E.F.C'!I108 -> 1230.015 | ... K108: ='Entidades de Crédito'!K108+'E.F.C'!K108 -> 8390.6258
A111: 1 La financiación a hogares recoge créditos para la adquisición y rehabilitación de vivienda

Sheet Entidades de Crédito
A1: Crédito inmobiliario por finanalidades. Entidades de crédito (Millones de Euros)
A3: FECHAS | B3: CRÉDITO PARA FINANCIAR ACTIVOS INMOBILIARIOS (Mill. Euros)
B4: TOTAL | D4: CONSTRUCCIÓN | F4: CONSTRUCCIÓN (SIN OBRAS PÚBLICAS) | H4: ACTIVIDADES INMOBILIARIAS | J4: HOGARES 1
C5: Del que dudosos | E5: Del que dudosos | G5: Del que dudosos | I5: Del que dudosos | K5: Del que dudosos
A6: 36770 | B6: =D6+H6+J6 -> 233379.42 | C6: =E6+I6+K6 -> 1615.817 | D6: 39638.909 | E6: 600.509 | F6: - | G6: - | H6: 30503.679 | I6: 230.639 | J6: 163236.83 | K6: 784.669
A7: 36861 | B7: =D7+H7+J7 -> 247392.99 | C7: =E7+I7+K7 -> 1628.479 | D7: 40891.686 | E7: 623.116 | F7: - | G7: - | H7: 32631.962 | I7: 221.484 | J7: 173869.34 | K7: 783.879
A8: 36951 | B8: =D8+H8+J8 -> 255727.03 | C8: =E8+I8+K8 -> 1598.1 | D8: 40378.441 | E8: 599.732 | F8: - | G8: - | H8: 35065.185 | I8: 204.377 | J8: 180283.4 | K8: 793.991
A9: 37043 | B9: =D9+H9+J9 -> 270328.93 | C9: =E9+I9+K9 -> 1524.002 | D9: 42562.514 | E9: 503.24 | F9: - | G9: - | H9: 37401.776 | I9: 217.978 | J9: 190364.64 | K9: 802.784
A10: 37135 | B10: =D10+H10+J10 -> 276052.74 | C10: =E10+I10+K10 -> 1581.881 | D10: 42829.55 | E10: 508.886 | F10: - | G10: - | H10: 37727.887 | I10: 227.967 | J10: 195495.3 | K10: 845.028
A11: 37226 | B11: =D11+H11+J11 -> 287715.64 | C11: =E11+I11+K11 -> 1568.645 | D11: 44240.331 | E11: 475.73 | F11: - | G11: - | H11: 40701.176 | I11: 216.163 | J11: 202774.13 | K11: 876.752
A12: 37316 | B12: =D12+H12+J12 -> 299143.96 | C12: =E12+I12+K12 -> 1701.095 | D12: 45559.254 | E12: 494.837 | F12: 42173.699 | G12: - | H12: 42432.767 | I12: 266.982 | J12: 211151.93 | K12: 939.276
A13: 37408 | B13: =D13+H13+J13 -> 316553.24 | C13: =E13+I13+K13 -> 1765.855 | D13: 48806.54 | E13: 531.638 | F13: 45397.148 | G13: - | H13: 45108.839 | I13: 247.599 | J13: 222637.86 | K13: 986.618
A14: 37500 | B14: =D14+H14+J14 -> 330987.41 | C14: =E14+I14+K14 -> 1811.117 | D14: 51652.986 | E14: 522.637 | F14: 47242.229 | G14: - | H14: 47759.813 | I14: 252.885 | J14: 231574.61 | K14: 1035.595
A15: 37591 | B15: =D15+H15+J15 -> 340072.28 | C15: =E15+I15+K15 -> 1697.243 | D15: 54678.847 | E15: 474.577 | F15: 50311.027 | G15: - | H15: 53672.183 | I15: 226.336 | J15: 231721.25 | K15: 996.33
A16: 37681 | B16: =D16+H16+J16 -> 353951.9 | C16: =E16+I16+K16 -> 1676.402 | D16: 54552.513 | E16: 457.609 | F16: 50629.629 | G16: - | H16: 58622.175 | I16: 219.425 | J16: 240777.21 | K16: 999.368
A17: 37773 | B17: =D17+H17+J17 -> 374805.25 | C17: =E17+I17+K17 -> 1660.955 | D17: 56982.535 | E17: 447.905 | F17: 52739.377 | G17: - | H17: 64553.391 | I17: 243.966 | J17: 253269.33 | K17: 969.084
A18: 37865 | B18: =D18+H18+J18 -> 390510.33 | C18: =E18+I18+K18 -> 1727.134 | D18: 59488.387 | E18: 462.905 | F18: 54894.264 | G18: - | H18: 69686.881 | I18: 254.477 | J18: 261335.06 | K18: 1009.752
A19: 37956 | B19: =D19+H19+J19 -> 410809.01 | C19: =E19+I19+K19 -> 1851.123 | D19: 62999.261 | E19: 497.026 | F19: 57647.427 | G19: - | H19: 76682.069 | I19: 409.917 | J19: 271127.68 | K19: 944.18
A20: 38047 | B20: =D20+H20+J20 -> 433036.78 | C20: =E20+I20+K20 -> 1827.196 | D20: 65652.626 | E20: 521.865 | F20: 61416.873 | G20: - | H20: 83793.453 | I20: 372.15 | J20: 283590.7 | K20: 933.181
A21: 38139 | B21: =D21+H21+J21 -> 459682.47 | C21: =E21+I21+K21 -> 1802.297 | D21: 69846.787 | E21: 599.297 | F21: 65284.261 | G21: - | H21: 93327.772 | I21: 298.074 | J21: 296507.91 | K21: 904.926
A22: 38231 | B22: =D22+H22+J22 -> 483238.74 | C22: =E22+I22+K22 -> 1834.932 | D22: 73005.665 | E22: 545.334 | F22: 68344.772 | G22: - | H22: 100777.24 | I22: 343.057 | J22: 309455.84 | K22: 946.541
A23: 38322 | B23: =D23+H23+J23 -> 514529.57 | C23: =E23+I23+K23 -> 2023.475 | D23: 75915.775 | E23: 597.296 | F23: 70928.118 | G23: - | H23: 110127.05 | I23: 507.337 | J23: 328486.75 | K23: 918.842
A24: 38412 | B24: =D24+H24+J24 -> 546577.53 | C24: =E24+I24+K24 -> 2132.199 | D24: 81258.434 | E24: 600.497 | F24: 76099.518 | G24: - | H24: 119468.6 | I24: 498.759 | J24: 345850.49 | K24: 1032.943
A25: 38504 | B25: =D25+H25+J25 -> 609424.99 | C25: =E25+I25+K25 -> 2688.189 | D25: 87162.68 | E25: 659.782 | F25: 81996.602 | G25: 579.589 | H25: 133193.03 | I25: 501.972 | J25: 389069.28 | K25: 1526.435
A26: 38596 | B26: =D26+H26+J26 -> 646704.98 | C26: =E26+I26+K26 -> 2885.111 | D26: 91681.443 | E26: 707.248 | F26: 86661.437 | G26: 618.143 | H26: 142571.36 | I26: 553.424 | J26: 412452.18 | K26: 1624.439
A27: 38687 | B27: =D27+H27+J27 -> 699612.7 | C27: =E27+I27+K27 -> 2860.082 | D27: 97422.676 | E27: 697.778 | F27: 91624.479 | G27: 612.702 | H27: 159443.47 | I27: 570.396 | J27: 442746.55 | K27: 1591.908
A28: 38777 | B28: =D28+H28+J28 -> 749824.35 | C28: =E28+I28+K28 -> 2991.788 | D28: 102994.76 | E28: 679.739 | F28: 96598.986 | G28: 589.457 | H28: 178496.06 | I28: 578.645 | J28: 468333.53 | K28: 1733.404
A29: 38869 | B29: =D29+H29+J29 -> 804172.98 | C29: =E29+I29+K29 -> 3172.666 | D29: 112694.31 | E29: 709.102 | F29: 105994.86 | G29: 616.934 | H29: 195595.86 | I29: 640.408 | J29: 495882.82 | K29: 1823.156
A30: 38961 | B30: =D30+H30+J30 -> 853177.26 | C30: =E30+I30+K30 -> 3506.828 | D30: 123570.17 | E30: 753.916 | F30: 115051 | G30: 650.583 | H30: 213077.03 | I30: 701.194 | J30: 516530.06 | K30: 2051.718
A31: 39052 | B31: =D31+H31+J31 -> 913095.91 | C31: =E31+I31+K31 -> 3391.222 | D31: 129877.35 | E31: 591.146 | F31: 120708.92 | G31: 472.503 | H31: 239911.42 | I31: 664.962 | J31: 543307.14 | K31: 2135.114
A32: 39142 | B32: =D32+H32+J32 -> 959077.51 | C32: =E32+I32+K32 -> 3946.774 | D32: 133773.07 | E32: 656.423 | F32: 123746.52 | G32: 516.548 | H32: 260507.28 | I32: 766.287 | J32: 564797.15 | K32: 2524.064
A33: 39234 | B33: =D33+H33+J33 -> 1006355.4 | C33: =E33+I33+K33 -> 4456.569 | D33: 140718.92 | E33: 678.142 | F33: 130285.39 | G33: 531.295 | H33: 277661.13 | I33: 909.072 | J33: 587975.37 | K33: 2869.355
A34: 39326 | B34: =D34+H34+J34 -> 1038377.7 | C34: =E34+I34+K34 -> 5561.894 | D34: 146407.89 | E34: 833.094 | F34: 135008.07 | G34: 666.017 | H34: 288426.51 | I34: 1067.1 | J34: 603543.34 | K34: 3661.7
A35: 39417 | B35: =D35+H35+J35 -> 1064558.1 | C35: =E35+I35+K35 -> 6848.992 | D35: 149041.71 | E35: 1069.353 | F35: 136597.16 | G35: 885.139 | H35: 299003.25 | I35: 1570.6 | J35: 616513.1 | K35: 4209.039
A36: 39508 | B36: =D36+H36+J36 -> 1084769.4 | C36: =E36+I36+K36 -> 10572.839 | D36: 150145.75 | E36: 1810.947 | F36: 137003.62 | G36: 1559.959 | H36: 307280.48 | I36: 2838.475 | J36: 627343.17 | K36: 5923.417
... A108: 46082 | B108: =D108+H108+J108 -> 604998.92 | C108: =E108+I108+K108 -> 10371.517 | D108: 22696.602 | E108: 1484.587 | F108: 17732.157 | G108: 1314.56 | H108: 73620.423 | I108: 1213.392 | J108: 508681.89 | K108: 7673.5378
A111: 1 La financiación a hogares recoge créditos para adquisición y rehabilitación de vivienda

Sheet Entidades de Depósito
A1: Crédito inmobiliario por finanalidades. Entidades de depósito (Millones de Euros)
A3: FECHAS | B3: CRÉDITO PARA FINANCIAR ACTIVOS INMOBILIARIOS (Mill. Euros)
B4: TOTAL | D4: CONSTRUCCIÓN | F4: CONSTRUCCIÓN (SIN OBRAS PÚBLICAS) | H4: ACTIVIDADES INMOBILIARIAS | J4: HOGARES 1
C5: Del que dudosos | E5: Del que dudosos | G5: Del que dudosos | I5: Del que dudosos | K5: Del que dudosos
A6: 36770 | B6: =D6+H6+J6 -> 232678.43 | C6: =E6+I6+K6 -> 1491.268 | D6: 39027.005 | E6: 485.437 | F6: - | G6: - | H6: 30428.762 | I6: 221.162 | J6: 163222.67 | K6: 784.669
A7: 36861 | B7: =D7+H7+J7 -> 246640.22 | C7: =E7+I7+K7 -> 1465.3 | D7: 40229.48 | E7: 469.227 | F7: - | G7: - | H7: 32555.272 | I7: 212.194 | J7: 173855.47 | K7: 783.879
A8: 36951 | B8: =D8+H8+J8 -> 254976.49 | C8: =E8+I8+K8 -> 1435.045 | D8: 39720.559 | E8: 446.243 | F8: - | G8: - | H8: 34986.872 | I8: 194.811 | J8: 180269.06 | K8: 793.991
A9: 37043 | B9: =D9+H9+J9 -> 269719.41 | C9: =E9+I9+K9 -> 1417.108 | D9: 42038.407 | E9: 427.324 | F9: - | G9: - | H9: 37331.56 | I9: 187 | J9: 190349.44 | K9: 802.784
A10: 37135 | B10: =D10+H10+J10 -> 275421.64 | C10: =E10+I10+K10 -> 1471.64 | D10: 42294.008 | E10: 431.234 | F10: - | G10: - | H10: 37648.068 | I10: 195.378 | J10: 195479.57 | K10: 845.028
A11: 37226 | B11: =D11+H11+J11 -> 287016.14 | C11: =E11+I11+K11 -> 1456.447 | D11: 43634.63 | E11: 398.852 | F11: - | G11: - | H11: 40624.052 | I11: 180.843 | J11: 202757.45 | K11: 876.752
A12: 37316 | B12: =D12+H12+J12 -> 298462.99 | C12: =E12+I12+K12 -> 1588.897 | D12: 44968.412 | E12: 417.959 | F12: 41582.857 | G12: - | H12: 42359.252 | I12: 231.662 | J12: 211135.32 | K12: 939.276
A13: 37408 | B13: =D13+H13+J13 -> 315916.37 | C13: =E13+I13+K13 -> 1650.574 | D13: 48239.219 | E13: 454.414 | F13: 44829.827 | G13: - | H13: 45055.864 | I13: 209.542 | J13: 222621.29 | K13: 986.618
A14: 37500 | B14: =D14+H14+J14 -> 330364.57 | C14: =E14+I14+K14 -> 1698.98 | D14: 51101.033 | E14: 446.212 | F14: 46690.276 | G14: - | H14: 47705.64 | I14: 217.173 | J14: 231557.89 | K14: 1035.595
A15: 37591 | B15: =D15+H15+J15 -> 339552.97 | C15: =E15+I15+K15 -> 1634.608 | D15: 54241.683 | E15: 432.765 | F15: 49873.863 | G15: - | H15: 53607.32 | I15: 205.513 | J15: 231703.97 | K15: 996.33
A16: 37681 | B16: =D16+H16+J16 -> 353420.17 | C16: =E16+I16+K16 -> 1612.439 | D16: 54105.739 | E16: 415.184 | F16: 50182.855 | G16: - | H16: 58554.552 | I16: 197.887 | J16: 240759.88 | K16: 999.368
A17: 37773 | B17: =D17+H17+J17 -> 374252.21 | C17: =E17+I17+K17 -> 1596.992 | D17: 56529.881 | E17: 405.48 | F17: 52286.723 | G17: - | H17: 64470.244 | I17: 222.428 | J17: 253252.08 | K17: 969.084
A18: 37865 | B18: =D18+H18+J18 -> 389882.02 | C18: =E18+I18+K18 -> 1663.171 | D18: 58962.602 | E18: 420.48 | F18: 54368.479 | G18: - | H18: 69601.688 | I18: 232.939 | J18: 261317.73 | K18: 1009.752
A19: 37956 | B19: =D19+H19+J19 -> 410170.38 | C19: =E19+I19+K19 -> 1767.644 | D19: 62462.507 | E19: 443.35 | F19: 57110.673 | G19: - | H19: 76597.904 | I19: 380.114 | J19: 271109.97 | K19: 944.18
A20: 38047 | B20: =D20+H20+J20 -> 432382.05 | C20: =E20+I20+K20 -> 1743.254 | D20: 65106.93 | E20: 448.189 | F20: 60871.177 | G20: - | H20: 83702.032 | I20: 361.884 | J20: 283573.08 | K20: 933.181
A21: 38139 | B21: =D21+H21+J21 -> 458990.37 | C21: =E21+I21+K21 -> 1644.649 | D21: 69283.902 | E21: 450.622 | F21: 64721.376 | G21: - | H21: 93216.272 | I21: 289.101 | J21: 296490.2 | K21: 904.926
A22: 38231 | B22: =D22+H22+J22 -> 482520.57 | C22: =E22+I22+K22 -> 1672.443 | D22: 72433.125 | E22: 391.659 | F22: 67772.232 | G22: - | H22: 100649.54 | I22: 334.243 | J22: 309437.91 | K22: 946.541
A23: 38322 | B23: =D23+H23+J23 -> 513788.41 | C23: =E23+I23+K23 -> 1861.313 | D23: 75333.554 | E23: 443.698 | F23: 70345.897 | G23: - | H23: 109985.83 | I23: 498.773 | J23: 328469.02 | K23: 918.842
A24: 38412 | B24: =D24+H24+J24 -> 545831.54 | C24: =E24+I24+K24 -> 1969.569 | D24: 80672.965 | E24: 446.908 | F24: 75514.049 | G24: - | H24: 119326.01 | I24: 489.718 | J24: 345832.56 | K24: 1032.943
A25: 38504 | B25: =D25+H25+J25 -> 608838.7 | C25: =E25+I25+K25 -> 2525.621 | D25: 86739.427 | E25: 506.203 | F25: 81573.349 | G25: 426.01 | H25: 133048.27 | I25: 492.983 | J25: 389051.01 | K25: 1526.435
A26: 38596 | B26: =D26+H26+J26 -> 646125.84 | C26: =E26+I26+K26 -> 2722.708 | D26: 91262.644 | E26: 553.67 | F26: 86242.638 | G26: 464.565 | H26: 142428.98 | I26: 544.599 | J26: 412434.22 | K26: 1624.439
A27: 38687 | B27: =D27+H27+J27 -> 699016.35 | C27: =E27+I27+K27 -> 2683.839 | D27: 96997.323 | E27: 533.949 | F27: 91199.126 | G27: 448.873 | H27: 159290.43 | I27: 557.982 | J27: 442728.6 | K27: 1591.908
A28: 38777 | B28: =D28+H28+J28 -> 749090.36 | C28: =E28+I28+K28 -> 2821.203 | D28: 102438.42 | E28: 525.704 | F28: 96042.644 | G28: 435.422 | H28: 178337.54 | I28: 562.095 | J28: 468314.4 | K28: 1733.404
A29: 38869 | B29: =D29+H29+J29 -> 803009.36 | C29: =E29+I29+K29 -> 3002.267 | D29: 111927.71 | E29: 555.069 | F29: 105228.26 | G29: 462.901 | H29: 195218.26 | I29: 624.042 | J29: 495863.39 | K29: 1823.156
A30: 38961 | B30: =D30+H30+J30 -> 852081.91 | C30: =E30+I30+K30 -> 3336.783 | D30: 122856.86 | E30: 599.965 | F30: 114337.7 | G30: 496.632 | H30: 212714.55 | I30: 685.1 | J30: 516510.5 | K30: 2051.718
A31: 39052 | B31: =D31+H31+J31 -> 912049.99 | C31: =E31+I31+K31 -> 3371.668 | D31: 129255.38 | E31: 587.55 | F31: 120086.95 | G31: 468.907 | H31: 239507.15 | I31: 649.004 | J31: 543287.47 | K31: 2135.114
A32: 39142 | B32: =D32+H32+J32 -> 957650.31 | C32: =E32+I32+K32 -> 3927.366 | D32: 132777.36 | E32: 652.827 | F32: 122750.81 | G32: 512.952 | H32: 260095.52 | I32: 750.475 | J32: 564777.43 | K32: 2524.064
A33: 39234 | B33: =D33+H33+J33 -> 1004712.7 | C33: =E33+I33+K33 -> 4440.765 | D33: 139619.72 | E33: 677.557 | F33: 129186.19 | G33: 530.71 | H33: 277137.38 | I33: 893.853 | J33: 587955.6 | K33: 2869.355
A34: 39326 | B34: =D34+H34+J34 -> 1036672.8 | C34: =E34+I34+K34 -> 5546.22 | D34: 145252.59 | E34: 832.465 | F34: 133852.77 | G34: 665.388 | H34: 287896.74 | I34: 1052.055 | J34: 603523.51 | K34: 3661.7
A35: 39417 | B35: =D35+H35+J35 -> 1062865.2 | C35: =E35+I35+K35 -> 6762.389 | D35: 147897.32 | E35: 1068.724 | F35: 135452.77 | G35: 884.51 | H35: 298474.9 | I35: 1484.626 | J35: 616493.01 | K35: 4209.039
A36: 39508 | B36: =D36+H36+J36 -> 1082993 | C36: =E36+I36+K36 -> 10486.253 | D36: 148919.11 | E36: 1810.318 | F36: 135776.98 | G36: 1559.33 | H36: 306751.84 | I36: 2752.518 | J36: 627322.09 | K36: 5923.417
... A108: 46082 | B108: =D108+H108+J108 -> 604308.15 | C108: =E108+I108+K108 -> 10361.614 | D108: 22518.848 | E108: 1484.43 | F108: 17571.449 | G108: 1314.56 | H108: 73121.206 | I108: 1203.646 | J108: 508668.09 | K108: 7673.538
A111: 1 La financiación a hogares recoge créditos para adquisición y rehabilitación de vivienda

Sheet E.F.C
A1: Crédito inmobiliario por finanalidades. EFCs (Millones de Euros)
A3: FECHAS | B3: CRÉDITO PARA FINANCIAR ACTIVOS INMOBILIARIOS (Mill. Euros)
B4: TOTAL | D4: CONSTRUCCIÓN | F4: CONSTRUCCIÓN (SIN OBRAS PÚBLICAS) | H4: ACTIVIDADES INMOBILIARIAS | J4: HOGARES 1
C5: Del que dudosos | E5: Del que dudosos | G5: Del que dudosos | I5: Del que dudosos | K5: Del que dudosos
A6: 36770 | B6: =D6+H6+J6 -> 5080.074 | C6: =E6+I6+K6 -> 52.31 | D6: 1569.451 | E6: 14.567 | F6: - | G6: - | H6: 856.163 | I6: 17.77 | J6: 2654.46 | K6: 19.973
A7: 36861 | B7: =D7+H7+J7 -> 5445.975 | C7: =E7+I7+K7 -> 109.99 | D7: 1735.42 | E7: 15.02 | F7: - | G7: - | H7: 927.102 | I7: 70.546 | J7: 2783.453 | K7: 24.424
A8: 36951 | B8: =D8+H8+J8 -> 5812.509 | C8: =E8+I8+K8 -> 129.332 | D8: 1989.246 | E8: 13.217 | F8: - | G8: - | H8: 917.735 | I8: 89.711 | J8: 2905.528 | K8: 26.404
A9: 37043 | B9: =D9+H9+J9 -> 6097.903 | C9: =E9+I9+K9 -> 75.958 | D9: 2121.511 | E9: 18.588 | F9: - | G9: - | H9: 913.888 | I9: 30.736 | J9: 3062.504 | K9: 26.634
A10: 37135 | B10: =D10+H10+J10 -> 6382.964 | C10: =E10+I10+K10 -> 81.416 | D10: 2127.927 | E10: 21.828 | F10: - | G10: - | H10: 1003.425 | I10: 31.098 | J10: 3251.612 | K10: 28.49
A11: 37226 | B11: =D11+H11+J11 -> 6326.228 | C11: =E11+I11+K11 -> 76.1 | D11: 2171.462 | E11: 19.627 | F11: - | G11: - | H11: 1138.604 | I11: 25.479 | J11: 3016.162 | K11: 30.994
A12: 37316 | B12: =D12+H12+J12 -> 6291.445 | C12: =E12+I12+K12 -> 77.712 | D12: 1927.846 | E12: 18.938 | F12: 1927.846 | G12: - | H12: 1161.665 | I12: 30.513 | J12: 3201.934 | K12: 28.261
A13: 37408 | B13: =D13+H13+J13 -> 6071.123 | C13: =E13+I13+K13 -> 80.543 | D13: 1964.328 | E13: 19.068 | F13: 1964.328 | G13: - | H13: 1223.329 | I13: 32.608 | J13: 2883.466 | K13: 28.867
A14: 37500 | B14: =D14+H14+J14 -> 6484.482 | C14: =E14+I14+K14 -> 97.924 | D14: 2124.414 | E14: 26.386 | F14: 2124.414 | G14: - | H14: 1266.507 | I14: 39.457 | J14: 3093.561 | K14: 32.081
A15: 37591 | B15: =D15+H15+J15 -> 7420.675 | C15: =E15+I15+K15 -> 103.114 | D15: 2697.053 | E15: 31.33 | F15: 2697.053 | G15: - | H15: 1359.121 | I15: 41.179 | J15: 3364.501 | K15: 30.605
A16: 37681 | B16: =D16+H16+J16 -> 7698.404 | C16: =E16+I16+K16 -> 89.541 | D16: 2422.387 | E16: 23.578 | F16: 2422.387 | G16: - | H16: 1555.717 | I16: 33.401 | J16: 3720.3 | K16: 32.562
A17: 37773 | B17: =D17+H17+J17 -> 6473.157 | C17: =E17+I17+K17 -> 84.708 | D17: 2448.689 | E17: 23.697 | F17: 2448.689 | G17: - | H17: 1283.733 | I17: 27.321 | J17: 2740.735 | K17: 33.69
A18: 37865 | B18: =D18+H18+J18 -> 6627.095 | C18: =E18+I18+K18 -> 89.342 | D18: 2413.89 | E18: 22.33 | F18: 2413.89 | G18: - | H18: 1095.327 | I18: 31.246 | J18: 3117.878 | K18: 35.766
A19: 37956 | B19: =D19+H19+J19 -> 8912.882 | C19: =E19+I19+K19 -> 106.385 | D19: 2784.301 | E19: 22.488 | F19: 2784.301 | G19: - | H19: 1298.363 | I19: 31.756 | J19: 4830.218 | K19: 52.141
A20: 38047 | B20: =D20+H20+J20 -> 9007.033 | C20: =E20+I20+K20 -> 119.298 | D20: 2518.759 | E20: 19.424 | F20: 2518.759 | G20: - | H20: 1343.035 | I20: 29.846 | J20: 5145.239 | K20: 70.028
A21: 38139 | B21: =D21+H21+J21 -> 9186.662 | C21: =E21+I21+K21 -> 126.22 | D21: 2515.204 | E21: 17.691 | F21: 2515.204 | G21: - | H21: 1642.236 | I21: 28.074 | J21: 5029.222 | K21: 80.455
A22: 38231 | B22: =D22+H22+J22 -> 9731.276 | C22: =E22+I22+K22 -> 142.984 | D22: 2488.792 | E22: 19.12 | F22: 2488.792 | G22: - | H22: 1677.465 | I22: 32.291 | J22: 5565.019 | K22: 91.573
A23: 38322 | B23: =D23+H23+J23 -> 9833.345 | C23: =E23+I23+K23 -> 149.899 | D23: 2456.669 | E23: 20.067 | F23: 2456.669 | G23: - | H23: 2037.529 | I23: 35.425 | J23: 5339.147 | K23: 94.407
A24: 38412 | B24: =D24+H24+J24 -> 10044.915 | C24: =E24+I24+K24 -> 126.752 | D24: 2162.739 | E24: 19.685 | F24: 2162.739 | G24: - | H24: 1975.845 | I24: 36.342 | J24: 5906.331 | K24: 70.725
A25: 38504 | B25: =D25+H25+J25 -> 10852.312 | C25: =E25+I25+K25 -> 189.65 | D25: 2643.371 | E25: 22.373 | F25: 2035.634 | G25: 17.754 | H25: 2289.59 | I25: 48.179 | J25: 5919.351 | K25: 119.098
A26: 38596 | B26: =D26+H26+J26 -> 11548.25 | C26: =E26+I26+K26 -> 200.286 | D26: 2729.112 | E26: 24.299 | F26: 2422.331 | G26: 19.38 | H26: 2239.152 | I26: 41.328 | J26: 6579.986 | K26: 134.659
A27: 38687 | B27: =D27+H27+J27 -> 11922.185 | C27: =E27+I27+K27 -> 229.251 | D27: 3338.164 | E27: 24.765 | F27: 3017.071 | G27: 19.618 | H27: 2643.076 | I27: 44.956 | J27: 5940.945 | K27: 159.53
A28: 38777 | B28: =D28+H28+J28 -> 12886.912 | C28: =E28+I28+K28 -> 236.675 | D28: 3187.758 | E28: 23.606 | F28: 2881.812 | G28: 18.967 | H28: 2994.805 | I28: 49.843 | J28: 6704.349 | K28: 163.226
A29: 38869 | B29: =D29+H29+J29 -> 13021.541 | C29: =E29+I29+K29 -> 239.375 | D29: 3500.442 | E29: 25.262 | F29: 3162.598 | G29: 20.78 | H29: 3401.844 | I29: 46.422 | J29: 6119.255 | K29: 167.691
A30: 38961 | B30: =D30+H30+J30 -> 14069.677 | C30: =E30+I30+K30 -> 229.315 | D30: 3850.299 | E30: 27.494 | F30: 3475.871 | G30: 23.153 | H30: 3565.107 | I30: 35.337 | J30: 6654.271 | K30: 166.484
A31: 39052 | B31: =D31+H31+J31 -> 14011.125 | C31: =E31+I31+K31 -> 255.324 | D31: 4439.833 | E31: 31.07 | F31: 4005.194 | G31: 26.213 | H31: 4138.927 | I31: 26.447 | J31: 5432.365 | K31: 197.807
A32: 39142 | B32: =D32+H32+J32 -> 14401.247 | C32: =E32+I32+K32 -> 263.758 | D32: 4063.303 | E32: 33.647 | F32: 3650.027 | G32: 28.71 | H32: 4145.989 | I32: 26.579 | J32: 6191.955 | K32: 203.532
A33: 39234 | B33: =D33+H33+J33 -> 13931.594 | C33: =E33+I33+K33 -> 279.153 | D33: 3832.582 | E33: 34.375 | F33: 3489.968 | G33: 30.546 | H33: 4419.642 | I33: 19.526 | J33: 5679.37 | K33: 225.252
A34: 39326 | B34: =D34+H34+J34 -> 14353.109 | C34: =E34+I34+K34 -> 319.025 | D34: 3932.956 | E34: 37.327 | F34: 3566.254 | G34: 33.211 | H34: 4172.373 | I34: 23.99 | J34: 6247.78 | K34: 257.708
A35: 39417 | B35: =D35+H35+J35 -> 15949.288 | C35: =E35+I35+K35 -> 356.735 | D35: 4411.323 | E35: 42.062 | F35: 3992.379 | G35: 37.405 | H35: 4510.68 | I35: 28.402 | J35: 7027.285 | K35: 286.271
A36: 39508 | B36: =D36+H36+J36 -> 15749.398 | C36: =E36+I36+K36 -> 445.677 | D36: 4091.391 | E36: 51.273 | F36: 3607.071 | G36: 45.028 | H36: 3991.036 | I36: 35.189 | J36: 7666.971 | K36: 359.215
... A108: 46082 | B108: =D108+H108+J108 -> 9017.948 | C108: =E108+I108+K108 -> 777.984 | D108: 1625.774 | E108: 44.273 | F108: 1490.184 | G108: 43.258 | H108: 391.932 | I108: 16.623 | J108: 7000.242 | K108: 717.088
A111: 1 La financiación a hogares recoge créditos para adquisición y rehabilitación de vivienda
