Workbook

Sheet TOTAL
A1: Crédito a los hogares. Entidades de crédito y EFCs (Millones de Euros)
B3: TOTAL HOGARES (1)=(2)+(4)+(5)+(6) | D3: CLASIFICACIÓN POR FUNCIONES DE GASTO
D4: ADQUISICIÓN DE VIVIENDA (2) | F4: ADQUISICIÓN VIVIENDA CON GARANTÍA INMOBILIARIA 1 (3) | G4: REHABILITACIÓN DE VIVIENDA (4) | I4: ADQUISICIÓN BIENES DE CONSUMO (5) | M4: RESTO DE FINANCIACIÓN A HOGARES 2 (6)
K5: ADQUISICIÓN BIENES CONSUMO DURADERO
C6: Del que dudosos | E6: Del que dudosos | H6: Del que dudosos | J6: Del que dudosos | L6: Del que dudosos | N6: Del que dudosos
A7: 36770 | B7: =+'Entidades de Crédito'!B7+'E.F.C.'!B7 -> 165891.29 | C7: =+'Entidades de Crédito'!C7+'E.F.C.'!C7 -> 804.642 | D7: =+'Entidades de Crédito'!D7+'E.F.C.'!D7 -> 158847.6 | E7: =+'Entidades de Crédito'!E7+'E.F.C.'!E7 -> 747.588 | F7: =+'Entidades de Crédito'!F7+'E.F.C.'!F7 -> 150661.39 | G7: =+'Entidades de Crédito'!G7+'E.F.C.'!G7 -> 7043.694 | H7: =+'Entidades de Depósito'!H7+'E.F.C.'!H7 -> 57.054 | I7: - | J7: - | K7: =+'Entidades de Crédito'!K7+'E.F.C.'!K7 -> 24911.484 | L7: =+'Entidades de Crédito'!L7+'E.F.C.'!L7 -> 447.953 | M7: - | N7: -
A8: 36861 | B8: =+'Entidades de Crédito'!B8+'E.F.C.'!B8 -> 176652.8 | C8: =+'Entidades de Crédito'!C8+'E.F.C.'!C8 -> 808.303 | D8: =+'Entidades de Crédito'!D8+'E.F.C.'!D8 -> 169280.37 | E8: =+'Entidades de Crédito'!E8+'E.F.C.'!E8 -> 750.087 | F8: =+'Entidades de Crédito'!F8+'E.F.C.'!F8 -> 160819.2 | G8: =+'Entidades de Crédito'!G8+'E.F.C.'!G8 -> 7372.423 | H8: =+'Entidades de Depósito'!H8+'E.F.C.'!H8 -> 58.216 | I8: - | J8: - | K8: =+'Entidades de Crédito'!K8+'E.F.C.'!K8 -> 26885.444 | L8: =+'Entidades de Crédito'!L8+'E.F.C.'!L8 -> 449.986 | M8: - | N8: -
A9: 36951 | B9: =+'Entidades de Crédito'!B9+'E.F.C.'!B9 -> 183188.93 | C9: =+'Entidades de Crédito'!C9+'E.F.C.'!C9 -> 820.395 | D9: =+'Entidades de Crédito'!D9+'E.F.C.'!D9 -> 175505.3 | E9: =+'Entidades de Crédito'!E9+'E.F.C.'!E9 -> 760.545 | F9: =+'Entidades de Crédito'!F9+'E.F.C.'!F9 -> 167519.7 | G9: =+'Entidades de Crédito'!G9+'E.F.C.'!G9 -> 7683.629 | H9: =+'Entidades de Depósito'!H9+'E.F.C.'!H9 -> 59.85 | I9: - | J9: - | K9: =+'Entidades de Crédito'!K9+'E.F.C.'!K9 -> 28330.784 | L9: =+'Entidades de Crédito'!L9+'E.F.C.'!L9 -> 504.687 | M9: - | N9: -
A10: 37043 | B10: =+'Entidades de Crédito'!B10+'E.F.C.'!B10 -> 193427.14 | C10: =+'Entidades de Crédito'!C10+'E.F.C.'!C10 -> 829.418 | D10: =+'Entidades de Crédito'!D10+'E.F.C.'!D10 -> 185448.84 | E10: =+'Entidades de Crédito'!E10+'E.F.C.'!E10 -> 775.125 | F10: =+'Entidades de Crédito'!F10+'E.F.C.'!F10 -> 176911.89 | G10: =+'Entidades de Crédito'!G10+'E.F.C.'!G10 -> 7978.306 | H10: =+'Entidades de Depósito'!H10+'E.F.C.'!H10 -> 54.293 | I10: - | J10: - | K10: =+'Entidades de Crédito'!K10+'E.F.C.'!K10 -> 31034.412 | L10: =+'Entidades de Crédito'!L10+'E.F.C.'!L10 -> 517.596 | M10: - | N10: -
A11: 37135 | B11: =+'Entidades de Crédito'!B11+'E.F.C.'!B11 -> 198746.91 | C11: =+'Entidades de Crédito'!C11+'E.F.C.'!C11 -> 873.518 | D11: =+'Entidades de Crédito'!D11+'E.F.C.'!D11 -> 190559.33 | E11: =+'Entidades de Crédito'!E11+'E.F.C.'!E11 -> 815.342 | F11: =+'Entidades de Crédito'!F11+'E.F.C.'!F11 -> 183046.34 | G11: =+'Entidades de Crédito'!G11+'E.F.C.'!G11 -> 8187.581 | H11: =+'Entidades de Depósito'!H11+'E.F.C.'!H11 -> 58.176 | I11: - | J11: - | K11: =+'Entidades de Crédito'!K11+'E.F.C.'!K11 -> 31826.352 | L11: =+'Entidades de Crédito'!L11+'E.F.C.'!L11 -> 584.011 | M11: - | N11: -
A12: 37226 | B12: =+'Entidades de Crédito'!B12+'E.F.C.'!B12 -> 205790.3 | C12: =+'Entidades de Crédito'!C12+'E.F.C.'!C12 -> 907.746 | D12: =+'Entidades de Crédito'!D12+'E.F.C.'!D12 -> 197191.95 | E12: =+'Entidades de Crédito'!E12+'E.F.C.'!E12 -> 849.329 | F12: =+'Entidades de Crédito'!F12+'E.F.C.'!F12 -> 189362.26 | G12: =+'Entidades de Crédito'!G12+'E.F.C.'!G12 -> 8598.349 | H12: =+'Entidades de Depósito'!H12+'E.F.C.'!H12 -> 58.417 | I12: - | J12: - | K12: =+'Entidades de Crédito'!K12+'E.F.C.'!K12 -> 33076.408 | L12: =+'Entidades de Crédito'!L12+'E.F.C.'!L12 -> 591.331 | M12: - | N12: -
A13: 37316 | B13: =+'Entidades de Crédito'!B13+'E.F.C.'!B13 -> 214353.87 | C13: =+'Entidades de Crédito'!C13+'E.F.C.'!C13 -> 967.537 | D13: =+'Entidades de Crédito'!D13+'E.F.C.'!D13 -> 205404.46 | E13: =+'Entidades de Crédito'!E13+'E.F.C.'!E13 -> 902.001 | F13: =+'Entidades de Crédito'!F13+'E.F.C.'!F13 -> 197565.39 | G13: =+'Entidades de Crédito'!G13+'E.F.C.'!G13 -> 8949.404 | H13: =+'Entidades de Depósito'!H13+'E.F.C.'!H13 -> 65.536 | I13: - | J13: - | K13: =+'Entidades de Crédito'!K13+'E.F.C.'!K13 -> 34671.396 | L13: =+'Entidades de Crédito'!L13+'E.F.C.'!L13 -> 631.579 | M13: - | N13: -
A14: 37408 | B14: =+'Entidades de Crédito'!B14+'E.F.C.'!B14 -> 225521.33 | C14: =+'Entidades de Crédito'!C14+'E.F.C.'!C14 -> 1015.485 | D14: =+'Entidades de Crédito'!D14+'E.F.C.'!D14 -> 216080.21 | E14: =+'Entidades de Crédito'!E14+'E.F.C.'!E14 -> 948.123 | F14: =+'Entidades de Crédito'!F14+'E.F.C.'!F14 -> 207620.58 | G14: =+'Entidades de Crédito'!G14+'E.F.C.'!G14 -> 9441.12 | H14: =+'Entidades de Depósito'!H14+'E.F.C.'!H14 -> 67.362 | I14: - | J14: - | K14: =+'Entidades de Crédito'!K14+'E.F.C.'!K14 -> 35466.336 | L14: =+'Entidades de Crédito'!L14+'E.F.C.'!L14 -> 754.587 | M14: - | N14: -
A15: 37500 | B15: =+'Entidades de Crédito'!B15+'E.F.C.'!B15 -> 234668.17 | C15: =+'Entidades de Crédito'!C15+'E.F.C.'!C15 -> 1067.676 | D15: =+'Entidades de Crédito'!D15+'E.F.C.'!D15 -> 224849.43 | E15: =+'Entidades de Crédito'!E15+'E.F.C.'!E15 -> 999.215 | F15: =+'Entidades de Crédito'!F15+'E.F.C.'!F15 -> 216211.04 | G15: =+'Entidades de Crédito'!G15+'E.F.C.'!G15 -> 9818.742 | H15: =+'Entidades de Depósito'!H15+'E.F.C.'!H15 -> 68.461 | I15: - | J15: - | K15: =+'Entidades de Crédito'!K15+'E.F.C.'!K15 -> 35072.06 | L15: =+'Entidades de Crédito'!L15+'E.F.C.'!L15 -> 757.252 | M15: - | N15: -
A16: 37591 | B16: =+'Entidades de Crédito'!B16+'E.F.C.'!B16 -> 235085.75 | C16: =+'Entidades de Crédito'!C16+'E.F.C.'!C16 -> 1026.935 | D16: =+'Entidades de Crédito'!D16+'E.F.C.'!D16 -> 224829.67 | E16: =+'Entidades de Crédito'!E16+'E.F.C.'!E16 -> 960.514 | F16: =+'Entidades de Crédito'!F16+'E.F.C.'!F16 -> 215793.39 | G16: =+'Entidades de Crédito'!G16+'E.F.C.'!G16 -> 10256.074 | H16: =+'Entidades de Depósito'!H16+'E.F.C.'!H16 -> 66.421 | I16: - | J16: - | K16: =+'Entidades de Crédito'!K16+'E.F.C.'!K16 -> 34741.136 | L16: =+'Entidades de Crédito'!L16+'E.F.C.'!L16 -> 663.28 | M16: - | N16: -
A17: 37681 | B17: =+'Entidades de Crédito'!B17+'E.F.C.'!B17 -> 244497.51 | C17: =+'Entidades de Crédito'!C17+'E.F.C.'!C17 -> 1031.93 | D17: =+'Entidades de Crédito'!D17+'E.F.C.'!D17 -> 233728.66 | E17: =+'Entidades de Crédito'!E17+'E.F.C.'!E17 -> 962.286 | F17: =+'Entidades de Crédito'!F17+'E.F.C.'!F17 -> 224893.57 | G17: =+'Entidades de Crédito'!G17+'E.F.C.'!G17 -> 10768.849 | H17: =+'Entidades de Depósito'!H17+'E.F.C.'!H17 -> 69.644 | I17: - | J17: - | K17: =+'Entidades de Crédito'!K17+'E.F.C.'!K17 -> 34910.232 | L17: =+'Entidades de Crédito'!L17+'E.F.C.'!L17 -> 677.338 | M17: - | N17: -
A18: 37773 | B18: =+'Entidades de Crédito'!B18+'E.F.C.'!B18 -> 256010.06 | C18: =+'Entidades de Crédito'!C18+'E.F.C.'!C18 -> 1002.774 | D18: =+'Entidades de Crédito'!D18+'E.F.C.'!D18 -> 244414 | E18: =+'Entidades de Crédito'!E18+'E.F.C.'!E18 -> 929.322 | F18: =+'Entidades de Crédito'!F18+'E.F.C.'!F18 -> 235706.29 | G18: =+'Entidades de Crédito'!G18+'E.F.C.'!G18 -> 11596.059 | H18: =+'Entidades de Depósito'!H18+'E.F.C.'!H18 -> 73.452 | I18: - | J18: - | K18: =+'Entidades de Crédito'!K18+'E.F.C.'!K18 -> 35675.52 | L18: =+'Entidades de Crédito'!L18+'E.F.C.'!L18 -> 729.376 | M18: - | N18: -
... A32: 39052 | B32: =+'Entidades de Crédito'!B32+'E.F.C.'!B32 -> 548739.51 | C32: =+'Entidades de Crédito'!C32+'E.F.C.'!C32 -> 2332.921 | D32: =+'Entidades de Crédito'!D32+'E.F.C.'!D32 -> 523595.28 | E32: =+'Entidades de Crédito'!E32+'E.F.C.'!E32 -> 2164.139 | F32: =+'Entidades de Crédito'!F32+'E.F.C.'!F32 -> 509144.1 | G32: =+'Entidades de Crédito'!G32+'E.F.C.'!G32 -> 25144.228 | H32: =+'Entidades de Depósito'!H32+'E.F.C.'!H32 -> 168.782 | I32: - | J32: - | K32: =+'Entidades de Crédito'!K32+'E.F.C.'!K32 -> 51460.84 | L32: =+'Entidades de Crédito'!L32+'E.F.C.'!L32 -> 1145.16 | M32: - | N32: -
A33: 39142 | B33: =+'Entidades de Crédito'!B33+'E.F.C.'!B33 -> 726178.83 | C33: =+'Entidades de Crédito'!C33+'E.F.C.'!C33 -> 5816.759 | D33: =+'Entidades de Crédito'!D33+'E.F.C.'!D33 -> 545189.58 | E33: =+'Entidades de Crédito'!E33+'E.F.C.'!E33 -> 2538.997 | F33: =+'Entidades de Crédito'!F33+'E.F.C.'!F33 -> 531398.08 | G33: =+'Entidades de Crédito'!G33+'E.F.C.'!G33 -> 25799.524 | H33: =+'Entidades de Depósito'!H33+'E.F.C.'!H33 -> 188.599 | I33: ='Entidades de Crédito'!I33+'E.F.C.'!I33 -> 93753.116 | J33: ='Entidades de Crédito'!J33+'E.F.C.'!J33 -> 2343.67 | K33: =+'Entidades de Crédito'!K33+'E.F.C.'!K33 -> 52713.008 | L33: =+'Entidades de Crédito'!L33+'E.F.C.'!L33 -> 1184.851 | M33: =+'Entidades de Crédito'!M33+'E.F.C.'!M33 -> 61436.609 | N33: =+'Entidades de Crédito'!N33+'E.F.C.'!N33 -> 745.493
A34: 39234 | B34: =+'Entidades de Crédito'!B34+'E.F.C.'!B34 -> 754726.42 | C34: =+'Entidades de Crédito'!C34+'E.F.C.'!C34 -> 6598.452 | D34: =+'Entidades de Crédito'!D34+'E.F.C.'!D34 -> 567062.01 | E34: =+'Entidades de Crédito'!E34+'E.F.C.'!E34 -> 2881.698 | F34: =+'Entidades de Crédito'!F34+'E.F.C.'!F34 -> 551792.27 | G34: =+'Entidades de Crédito'!G34+'E.F.C.'!G34 -> 26592.732 | H34: =+'Entidades de Depósito'!H34+'E.F.C.'!H34 -> 212.909 | I34: ='Entidades de Crédito'!I34+'E.F.C.'!I34 -> 97140.558 | J34: ='Entidades de Crédito'!J34+'E.F.C.'!J34 -> 2577.913 | K34: =+'Entidades de Crédito'!K34+'E.F.C.'!K34 -> 53897.636 | L34: =+'Entidades de Crédito'!L34+'E.F.C.'!L34 -> 1337.751 | M34: =+'Entidades de Crédito'!M34+'E.F.C.'!M34 -> 63931.128 | N34: =+'Entidades de Crédito'!N34+'E.F.C.'!N34 -> 925.932
A35: 39326 | B35: =+'Entidades de Crédito'!B35+'E.F.C.'!B35 -> 768196.95 | C35: =+'Entidades de Crédito'!C35+'E.F.C.'!C35 -> 7808.837 | D35: =+'Entidades de Crédito'!D35+'E.F.C.'!D35 -> 582504.66 | E35: =+'Entidades de Crédito'!E35+'E.F.C.'!E35 -> 3672.87 | F35: =+'Entidades de Crédito'!F35+'E.F.C.'!F35 -> 567200.3 | G35: =+'Entidades de Crédito'!G35+'E.F.C.'!G35 -> 27286.456 | H35: =+'Entidades de Depósito'!H35+'E.F.C.'!H35 -> 246.538 | I35: ='Entidades de Crédito'!I35+'E.F.C.'!I35 -> 98259.268 | J35: ='Entidades de Crédito'!J35+'E.F.C.'!J35 -> 2964.453 | K35: =+'Entidades de Crédito'!K35+'E.F.C.'!K35 -> 54034.808 | L35: =+'Entidades de Crédito'!L35+'E.F.C.'!L35 -> 1526.947 | M35: =+'Entidades de Crédito'!M35+'E.F.C.'!M35 -> 60146.564 | N35: =+'Entidades de Crédito'!N35+'E.F.C.'!N35 -> 924.976
A36: 39417 | B36: =+'Entidades de Crédito'!B36+'E.F.C.'!B36 -> 789249.83 | C36: =+'Entidades de Crédito'!C36+'E.F.C.'!C36 -> 8837.34 | D36: =+'Entidades de Crédito'!D36+'E.F.C.'!D36 -> 595929.07 | E36: =+'Entidades de Crédito'!E36+'E.F.C.'!E36 -> 4242.861 | F36: =+'Entidades de Crédito'!F36+'E.F.C.'!F36 -> 580721.59 | G36: =+'Entidades de Crédito'!G36+'E.F.C.'!G36 -> 27611.324 | H36: =+'Entidades de Depósito'!H36+'E.F.C.'!H36 -> 252.449 | I36: ='Entidades de Crédito'!I36+'E.F.C.'!I36 -> 103374.98 | J36: ='Entidades de Crédito'!J36+'E.F.C.'!J36 -> 3320.251 | K36: =+'Entidades de Crédito'!K36+'E.F.C.'!K36 -> 56576.08 | L36: =+'Entidades de Crédito'!L36+'E.F.C.'!L36 -> 1693.876 | M36: =+'Entidades de Crédito'!M36+'E.F.C.'!M36 -> 62334.465 | N36: =+'Entidades de Crédito'!N36+'E.F.C.'!N36 -> 1021.779
A37: 39508 | B37: =+'Entidades de Crédito'!B37+'E.F.C.'!B37 -> 802258.45 | C37: =+'Entidades de Crédito'!C37+'E.F.C.'!C37 -> 11464.959 | D37: =+'Entidades de Crédito'!D37+'E.F.C.'!D37 -> 606806.78 | E37: =+'Entidades de Crédito'!E37+'E.F.C.'!E37 -> 5946.746 | F37: =+'Entidades de Crédito'!F37+'E.F.C.'!F37 -> 591546.45 | G37: =+'Entidades de Crédito'!G37+'E.F.C.'!G37 -> 28203.358 | H37: =+'Entidades de Depósito'!H37+'E.F.C.'!H37 -> 335.886 | I37: ='Entidades de Crédito'!I37+'E.F.C.'!I37 -> 103829.89 | J37: ='Entidades de Crédito'!J37+'E.F.C.'!J37 -> 3967.422 | K37: =+'Entidades de Crédito'!K37+'E.F.C.'!K37 -> 57357.108 | L37: =+'Entidades de Crédito'!L37+'E.F.C.'!L37 -> 2042.213 | M37: =+'Entidades de Crédito'!M37+'E.F.C.'!M37 -> 63418.417 | N37: =+'Entidades de Crédito'!N37+'E.F.C.'!N37 -> 1214.905
A38: 39600 | B38: =+'Entidades de Crédito'!B38+'E.F.C.'!B38 -> 817074.24 | C38: =+'Entidades de Crédito'!C38+'E.F.C.'!C38 -> 14840.699 | D38: =+'Entidades de Crédito'!D38+'E.F.C.'!D38 -> 616486.58 | E38: =+'Entidades de Crédito'!E38+'E.F.C.'!E38 -> 8022.033 | F38: =+'Entidades de Crédito'!F38+'E.F.C.'!F38 -> 601280.42 | G38: =+'Entidades de Crédito'!G38+'E.F.C.'!G38 -> 28799.706 | H38: =+'Entidades de Depósito'!H38+'E.F.C.'!H38 -> 466.459 | I38: ='Entidades de Crédito'!I38+'E.F.C.'!I38 -> 106146.8 | J38: ='Entidades de Crédito'!J38+'E.F.C.'!J38 -> 4896.921 | K38: =+'Entidades de Crédito'!K38+'E.F.C.'!K38 -> 57725.876 | L38: =+'Entidades de Crédito'!L38+'E.F.C.'!L38 -> 2498.772 | M38: =+'Entidades de Crédito'!M38+'E.F.C.'!M38 -> 65641.158 | N38: =+'Entidades de Crédito'!N38+'E.F.C.'!N38 -> 1455.286
A39: 39692 | B39: =+'Entidades de Crédito'!B39+'E.F.C.'!B39 -> 816755.05 | C39: =+'Entidades de Crédito'!C39+'E.F.C.'!C39 -> 19343.858 | D39: =+'Entidades de Crédito'!D39+'E.F.C.'!D39 -> 623101.39 | E39: =+'Entidades de Crédito'!E39+'E.F.C.'!E39 -> 11396.859 | F39: =+'Entidades de Crédito'!F39+'E.F.C.'!F39 -> 607815.14 | G39: =+'Entidades de Crédito'!G39+'E.F.C.'!G39 -> 28856.876 | H39: =+'Entidades de Depósito'!H39+'E.F.C.'!H39 -> 643.244 | I39: ='Entidades de Crédito'!I39+'E.F.C.'!I39 -> 104332.07 | J39: ='Entidades de Crédito'!J39+'E.F.C.'!J39 -> 5413.342 | K39: =+'Entidades de Crédito'!K39+'E.F.C.'!K39 -> 55859.2 | L39: =+'Entidades de Crédito'!L39+'E.F.C.'!L39 -> 2600.964 | M39: =+'Entidades de Crédito'!M39+'E.F.C.'!M39 -> 60464.702 | N39: =+'Entidades de Crédito'!N39+'E.F.C.'!N39 -> 1890.413
A40: 39783 | B40: =+'Entidades de Crédito'!B40+'E.F.C.'!B40 -> 819411.86 | C40: =+'Entidades de Crédito'!C40+'E.F.C.'!C40 -> 24385.69 | D40: =+'Entidades de Crédito'!D40+'E.F.C.'!D40 -> 626620.01 | E40: =+'Entidades de Crédito'!E40+'E.F.C.'!E40 -> 14835.816 | F40: =+'Entidades de Crédito'!F40+'E.F.C.'!F40 -> 611483.28 | G40: =+'Entidades de Crédito'!G40+'E.F.C.'!G40 -> 28524.502 | H40: =+'Entidades de Depósito'!H40+'E.F.C.'!H40 -> 743.917 | I40: ='Entidades de Crédito'!I40+'E.F.C.'!I40 -> 102330.15 | J40: ='Entidades de Crédito'!J40+'E.F.C.'!J40 -> 6352.079 | K40: =+'Entidades de Crédito'!K40+'E.F.C.'!K40 -> 54175.776 | L40: =+'Entidades de Crédito'!L40+'E.F.C.'!L40 -> 2872.927 | M40: =+'Entidades de Crédito'!M40+'E.F.C.'!M40 -> 61937.199 | N40: =+'Entidades de Crédito'!N40+'E.F.C.'!N40 -> 2453.878
A41: 39873 | B41: =+'Entidades de Crédito'!B41+'E.F.C.'!B41 -> 808715.29 | C41: =+'Entidades de Crédito'!C41+'E.F.C.'!C41 -> 29187.648 | D41: =+'Entidades de Crédito'!D41+'E.F.C.'!D41 -> 621811.31 | E41: =+'Entidades de Crédito'!E41+'E.F.C.'!E41 -> 17648.594 | F41: =+'Entidades de Crédito'!F41+'E.F.C.'!F41 -> 608486.97 | G41: =+'Entidades de Crédito'!G41+'E.F.C.'!G41 -> 29683.568 | H41: =+'Entidades de Depósito'!H41+'E.F.C.'!H41 -> 975.317 | I41: ='Entidades de Crédito'!I41+'E.F.C.'!I41 -> 98278.328 | J41: ='Entidades de Crédito'!J41+'E.F.C.'!J41 -> 7733.123 | K41: =+'Entidades de Crédito'!K41+'E.F.C.'!K41 -> 50560.288 | L41: =+'Entidades de Crédito'!L41+'E.F.C.'!L41 -> 3699.457 | M41: =+'Entidades de Crédito'!M41+'E.F.C.'!M41 -> 58942.082 | N41: =+'Entidades de Crédito'!N41+'E.F.C.'!N41 -> 2830.614
A42: 39965 | B42: =+'Entidades de Crédito'!B42+'E.F.C.'!B42 -> 815067.85 | C42: =+'Entidades de Crédito'!C42+'E.F.C.'!C42 -> 30750.436 | D42: =+'Entidades de Crédito'!D42+'E.F.C.'!D42 -> 620920.18 | E42: =+'Entidades de Crédito'!E42+'E.F.C.'!E42 -> 18652.496 | F42: =+'Entidades de Crédito'!F42+'E.F.C.'!F42 -> 607829.89 | G42: =+'Entidades de Crédito'!G42+'E.F.C.'!G42 -> 30643.376 | H42: =+'Entidades de Depósito'!H42+'E.F.C.'!H42 -> 1006.704 | I42: ='Entidades de Crédito'!I42+'E.F.C.'!I42 -> 97769.733 | J42: ='Entidades de Crédito'!J42+'E.F.C.'!J42 -> 8073.803 | K42: =+'Entidades de Crédito'!K42+'E.F.C.'!K42 -> 49582.632 | L42: =+'Entidades de Crédito'!L42+'E.F.C.'!L42 -> 3759.43 | M42: =+'Entidades de Crédito'!M42+'E.F.C.'!M42 -> 65734.561 | N42: =+'Entidades de Crédito'!N42+'E.F.C.'!N42 -> 3017.433
A43: 40057 | B43: =+'Entidades de Crédito'!B43+'E.F.C.'!B43 -> 810148.89 | C43: =+'Entidades de Crédito'!C43+'E.F.C.'!C43 -> 31288.947 | D43: =+'Entidades de Crédito'!D43+'E.F.C.'!D43 -> 622122.39 | E43: =+'Entidades de Crédito'!E43+'E.F.C.'!E43 -> 18918.31 | F43: =+'Entidades de Crédito'!F43+'E.F.C.'!F43 -> 609394.53 | G43: =+'Entidades de Crédito'!G43+'E.F.C.'!G43 -> 30311.624 | H43: =+'Entidades de Depósito'!H43+'E.F.C.'!H43 -> 1012.486 | I43: ='Entidades de Crédito'!I43+'E.F.C.'!I43 -> 95999.224 | J43: ='Entidades de Crédito'!J43+'E.F.C.'!J43 -> 8066.068 | K43: =+'Entidades de Crédito'!K43+'E.F.C.'!K43 -> 49840.232 | L43: =+'Entidades de Crédito'!L43+'E.F.C.'!L43 -> 3866.605 | M43: =+'Entidades de Crédito'!M43+'E.F.C.'!M43 -> 61715.649 | N43: =+'Entidades de Crédito'!N43+'E.F.C.'!N43 -> 3292.083
A44: 40148 | B44: =+'Entidades de Crédito'!B44+'E.F.C.'!B44 -> 813939.34 | C44: =+'Entidades de Crédito'!C44+'E.F.C.'!C44 -> 29949.366 | D44: =+'Entidades de Crédito'!D44+'E.F.C.'!D44 -> 624755.02 | E44: =+'Entidades de Crédito'!E44+'E.F.C.'!E44 -> 17928.88 | F44: =+'Entidades de Crédito'!F44+'E.F.C.'!F44 -> 611813.29 | G44: =+'Entidades de Crédito'!G44+'E.F.C.'!G44 -> 29811.028 | H44: =+'Entidades de Depósito'!H44+'E.F.C.'!H44 -> 950.246 | I44: ='Entidades de Crédito'!I44+'E.F.C.'!I44 -> 92390.593 | J44: ='Entidades de Crédito'!J44+'E.F.C.'!J44 -> 7661.497 | K44: =+'Entidades de Crédito'!K44+'E.F.C.'!K44 -> 49272.576 | L44: =+'Entidades de Crédito'!L44+'E.F.C.'!L44 -> 3755.263 | M44: =+'Entidades de Crédito'!M44+'E.F.C.'!M44 -> 66982.693 | N44: =+'Entidades de Crédito'!N44+'E.F.C.'!N44 -> 3408.743
... A109: 46082 | B109: =+'Entidades de Crédito'!B109+'E.F.C.'!B109 -> 667113.19 | C109: =+'Entidades de Crédito'!C109+'E.F.C.'!C109 -> 14587.533 | D109: =+'Entidades de Crédito'!D109+'E.F.C.'!D109 -> 500572.82 | E109: =+'Entidades de Crédito'!E109+'E.F.C.'!E109 -> 7986.458 | F109: =+'Entidades de Crédito'!F109+'E.F.C.'!F109 -> 495710.3 | G109: =+'Entidades de Crédito'!G109+'E.F.C.'!G109 -> 15109.316 | H109: =+'Entidades de Depósito'!H109+'E.F.C.'!H109 -> 404.168 | I109: ='Entidades de Crédito'!I109+'E.F.C.'!I109 -> 114743.08 | J109: ='Entidades de Crédito'!J109+'E.F.C.'!J109 -> 4542.784 | K109: =+'Entidades de Crédito'!K109+'E.F.C.'!K109 -> 79581.755 | L109: =+'Entidades de Crédito'!L109+'E.F.C.'!L109 -> 2840.169 | M109: =+'Entidades de Crédito'!M109+'E.F.C.'!M109 -> 36687.975 | N109: =+'Entidades de Crédito'!N109+'E.F.C.'!N109 -> 1654.123
A112: 1 Hasta diciembre de 2013 se incluyen créditos con garantía hipotecaria. Después de esta fecha se incluyen créditos que cuenten con una garantía real inmobiliaria, incluidas las instrumentadas como arrendamientos financieros, cualquiera que sea el inmueble recibido en garantía
A113: 2 Recoge los préstamos y créditos a hogares concedidos para finalidades distintas del crédito al consumo y a la vivienda, tales como educación.

Sheet Entidades de Crédito
A1: Crédito a los hogares. Entidades de crédito (Millones de Euros)
B3: TOTAL HOGARES (1)=(2)+(4)+(5)+(6) | D3: CLASIFICACIÓN POR FUNCIONES DE GASTO
D4: ADQUISICIÓN DE VIVIENDA (2) | F4: ADQUISICIÓN VIVIENDA CON GARANTÍA INMOBILIARIA 1 (3) | G4: REHABILITACIÓN DE VIVIENDA (4) | I4: ADQUISICIÓN BIENES DE CONSUMO (5) | M4: RESTO DE FINANCIACIÓN A HOGARES 2 (6)
K5: ADQUISICIÓN BIENES CONSUMO DURADERO
C6: Del que dudosos | E6: Del que dudosos | H6: Del que dudosos | J6: Del que dudosos | L6: Del que dudosos | N6: Del que dudosos
A7: 36770 | B7: =D7+G7+I7+M7 -> 163236.83 | C7: =E7+H7+J7+N7 -> 784.669 | D7: 156220.49 | E7: 728.23 | F7: 148099.04 | G7: 7016.335 | H7: 56.439 | K7: 19025.244 | L7: 284.462
A8: 36861 | B8: =D8+G8+I8+M8 -> 173869.34 | C8: =E8+H8+J8+N8 -> 783.879 | D8: 166525.62 | E8: 726.303 | F8: 158138.93 | G8: 7343.725 | H8: 57.576 | K8: 20738.087 | L8: 283.281
A9: 36951 | B9: =D9+G9+I9+M9 -> 180283.4 | C9: =E9+H9+J9+N9 -> 793.991 | D9: 172633.14 | E9: 734.747 | F9: 164728.45 | G9: 7650.263 | H9: 59.244 | K9: 22202.383 | L9: 333.62
A10: 37043 | B10: =D10+G10+I10+M10 -> 190364.64 | C10: =E10+H10+J10+N10 -> 802.784 | D10: 182422.51 | E10: 749.219 | F10: 174031.2 | G10: 7942.128 | H10: 53.565 | K10: 24363.227 | L10: 350.544
A11: 37135 | B11: =D11+G11+I11+M11 -> 195495.3 | C11: =E11+H11+J11+N11 -> 845.028 | D11: 187346.76 | E11: 787.702 | F11: 179934.73 | G11: 8148.538 | H11: 57.326 | K11: 24953.227 | L11: 412.773
A12: 37226 | B12: =D12+G12+I12+M12 -> 202774.13 | C12: =E12+H12+J12+N12 -> 876.752 | D12: 194202.09 | E12: 819.071 | F12: 186493.88 | G12: 8572.041 | H12: 57.681 | K12: 25881.992 | L12: 367.833
A13: 37316 | B13: =D13+G13+I13+M13 -> 211151.93 | C13: =E13+H13+J13+N13 -> 939.276 | D13: 202226.63 | E13: 874.551 | F13: 194390.25 | G13: 8925.305 | H13: 64.725 | K13: 27382.476 | L13: 404.935
A14: 37408 | B14: =D14+G14+I14+M14 -> 222637.86 | C14: =E14+H14+J14+N14 -> 986.618 | D14: 213228.95 | E14: 920.194 | F14: 204903.17 | G14: 9408.908 | H14: 66.424 | K14: 27724.209 | L14: 420.423
A15: 37500 | B15: =D15+G15+I15+M15 -> 231574.61 | C15: =E15+H15+J15+N15 -> 1035.595 | D15: 221782.75 | E15: 968.043 | F15: 213243.52 | G15: 9791.86 | H15: 67.552 | K15: 27333.469 | L15: 436.281
A16: 37591 | B16: =D16+G16+I16+M16 -> 231721.25 | C16: =E16+H16+J16+N16 -> 996.33 | D16: 221490.4 | E16: 930.601 | F16: 212554.63 | G16: 10230.85 | H16: 65.729 | K16: 27136.213 | L16: 418.523
A17: 37681 | B17: =D17+G17+I17+M17 -> 240777.21 | C17: =E17+H17+J17+N17 -> 999.368 | D17: 230032.5 | E17: 930.447 | F17: 221324.11 | G17: 10744.709 | H17: 68.921 | K17: 27566.192 | L17: 430.218
A18: 37773 | B18: =D18+G18+I18+M18 -> 253269.33 | C18: =E18+H18+J18+N18 -> 969.084 | D18: 241700.74 | E18: 896.356 | F18: 233016.64 | G18: 11568.586 | H18: 72.728 | K18: 27958.699 | L18: 478.063
... A32: 39052 | B32: =D32+G32+I32+M32 -> 543307.14 | C32: =E32+H32+J32+N32 -> 2135.114 | D32: 518359.89 | E32: 1971.264 | F32: 504072.29 | G32: 24947.252 | H32: 163.85 | K32: 39181.929 | L32: 796.535
A33: 39142 | B33: =D33+G33+I33+M33 -> 700555.86 | C33: =E33+H33+J33+N33 -> 4841.512 | D33: 539212.51 | E33: 2340.436 | F33: 525668.27 | G33: 25584.641 | H33: 183.628 | I33: 77327.965 | J33: 1764.114 | K33: 39994.014 | L33: 820.62 | M33: 58430.747 | N33: 553.334
A34: 39234 | B34: =D34+G34+I34+M34 -> 733290.32 | C34: =E34+H34+J34+N34 -> 5585.639 | D34: 561604.33 | E34: 2662.499 | F34: 546655.54 | G34: 26371.033 | H34: 206.856 | I34: 84348.33 | J34: 1995.814 | K34: 45234.972 | L34: 1010.365 | M34: 60966.624 | N34: 720.47
A35: 39326 | B35: =D35+G35+I35+M35 -> 745736.58 | C35: =E35+H35+J35+N35 -> 6632.066 | D35: 576483.05 | E35: 3423.129 | F35: 561515.48 | G35: 27060.289 | H35: 238.571 | I35: 85300.53 | J35: 2274.646 | K35: 45577.027 | L35: 1144.522 | M35: 56892.712 | N35: 695.72
A36: 39417 | B36: =D36+G36+I36+M36 -> 764583.72 | C36: =E36+H36+J36+N36 -> 7489.888 | D36: 589144.45 | E36: 3964.822 | F36: 574315.26 | G36: 27368.656 | H36: 244.217 | I36: 89166.834 | J36: 2556.93 | K36: 47389.862 | L36: 1276.606 | M36: 58903.781 | N36: 723.919
A37: 39508 | B37: =D37+G37+I37+M37 -> 776785.1 | C37: =E37+H37+J37+N37 -> 9880.653 | D37: 599384.25 | E37: 5599.642 | F37: 584512.23 | G37: 27958.915 | H37: 323.775 | I37: 89638.746 | J37: 3087.722 | K37: 48032.366 | L37: 1557.345 | M37: 59803.184 | N37: 869.514
A38: 39600 | B38: =D38+G38+I38+M38 -> 790274.94 | C38: =E38+H38+J38+N38 -> 12976.503 | D38: 608619.42 | E38: 7613.069 | F38: 593805.66 | G38: 28558.24 | H38: 452.842 | I38: 91112.195 | J38: 3841.949 | K38: 48265.981 | L38: 1957.794 | M38: 61985.086 | N38: 1068.643
A39: 39692 | B39: =D39+G39+I39+M39 -> 789474.27 | C39: =E39+H39+J39+N39 -> 17041.135 | D39: 615023.52 | E39: 10881.964 | F39: 600125.6 | G39: 28620.983 | H39: 630.376 | I39: 88645.994 | J39: 4072.976 | K39: 46334.004 | L39: 1909.846 | M39: 57183.77 | N39: 1455.819
A40: 39783 | B40: =D40+G40+I40+M40 -> 791763.06 | C40: =E40+H40+J40+N40 -> 21703.43 | D40: 618427.06 | E40: 14218.773 | F40: 603673.05 | G40: 28298.49 | H40: 731.273 | I40: 86475.939 | J40: 4877.164 | K40: 44681.188 | L40: 2108.257 | M40: 58561.573 | N40: 1876.22
A41: 39873 | B41: =D41+G41+I41+M41 -> 782068.28 | C41: =E41+H41+J41+N41 -> 25921.622 | D41: 613573.62 | E41: 16817.209 | F41: 600603.21 | G41: 29484.924 | H41: 959.36 | I41: 83065.715 | J41: 5984.085 | K41: 41570.337 | L41: 2820.084 | M41: 55944.022 | N41: 2160.968
A42: 39965 | B42: =D42+G42+I42+M42 -> 788659.89 | C42: =E42+H42+J42+N42 -> 27271.457 | D42: 612623.38 | E42: 17793.825 | F42: 599896.08 | G42: 30455.359 | H42: 990.857 | I42: 82753.511 | J42: 6218.769 | K42: 40671.374 | L42: 2797.513 | M42: 62827.644 | N42: 2268.006
A43: 40057 | B43: =D43+G43+I43+M43 -> 784343.69 | C43: =E43+H43+J43+N43 -> 27913.875 | D43: 613820.24 | E43: 18110.938 | F43: 601467.27 | G43: 30147.934 | H43: 1006.943 | I43: 81742.061 | J43: 6232.511 | K43: 40568.562 | L43: 2789.876 | M43: 58633.454 | N43: 2563.483
A44: 40148 | B44: =D44+G44+I44+M44 -> 788662.21 | C44: =E44+H44+J44+N44 -> 26579.808 | D44: 616507.4 | E44: 16994.196 | F44: 603946.94 | G44: 29656.269 | H44: 945.042 | I44: 77897.772 | J44: 5855.555 | K44: 40731.574 | L44: 2814.365 | M44: 64600.768 | N44: 2785.015
... A109: 46082 | B109: =D109+G109+I109+M109 -> 637591.13 | C109: =E109+H109+J109+N109 -> 12879.245 | D109: 493962.49 | E109: 7288.868 | F109: 489253.3 | G109: 14719.407 | H109: 384.67 | I109: 93706.849 | J109: 3719.606 | K109: 67922.165 | L109: 2417.106 | M109: 35202.387 | N109: 1486.101
A112: 1 Hasta diciembre de 2013 se incluyen créditos con garantía hipotecaria. Después de esta fecha se incluyen créditos que cuenten con una garantía real inmobiliaria, incluidas las instrumentadas como arrendamientos financieros, cualquiera que sea el inmueble recibido en garantía
A113: 2 Recoge los préstamos y créditos a hogares concedidos para finalidades distintas del crédito al consumo y a la vivienda, tales como educación.

Sheet Entidades de Depósito
A1: Crédito a los hogares. Entidades de depósito (Millones de Euros)
B3: TOTAL HOGARES (1)=(2)+(4)+(5)+(6) | D3: CLASIFICACIÓN POR FUNCIONES DE GASTO
D4: ADQUISICIÓN DE VIVIENDA (2) | F4: ADQUISICIÓN VIVIENDA CON GARANTÍA INMOBILIARIA 1 (3) | G4: REHABILITACIÓN DE VIVIENDA (4) | I4: ADQUISICIÓN BIENES DE CONSUMO (5) | M4: RESTO DE FINANCIACIÓN A HOGARES 2 (6)
K5: ADQUISICIÓN BIENES CONSUMO DURADERO
C6: Del que dudosos | E6: Del que dudosos | H6: Del que dudosos | J6: Del que dudosos | L6: Del que dudosos | N6: Del que dudosos
A7: 36770 | B7: =+D7+G7+I7+M7 -> 163222.67 | C7: =+E7+H7+J7+N7 -> 784.669 | D7: 156206.33 | E7: 728.23 | F7: 148097.66 | G7: 7016.335 | H7: 56.439 | K7: 19023.886 | L7: 284.462
A8: 36861 | B8: =+D8+G8+I8+M8 -> 173855.47 | C8: =+E8+H8+J8+N8 -> 783.879 | D8: 166511.74 | E8: 726.303 | F8: 158137.44 | G8: 7343.725 | H8: 57.576 | K8: 20736.696 | L8: 283.281
A9: 36951 | B9: =+D9+G9+I9+M9 -> 180269.06 | C9: =+E9+H9+J9+N9 -> 793.991 | D9: 172618.8 | E9: 734.747 | F9: 164726.83 | G9: 7650.263 | H9: 59.244 | K9: 22200.982 | L9: 333.62
A10: 37043 | B10: =+D10+G10+I10+M10 -> 190349.44 | C10: =+E10+H10+J10+N10 -> 802.784 | D10: 182407.31 | E10: 749.219 | F10: 174017.81 | G10: 7942.128 | H10: 53.565 | K10: 24361.818 | L10: 350.544
A11: 37135 | B11: =+D11+G11+I11+M11 -> 195479.57 | C11: =+E11+H11+J11+N11 -> 845.028 | D11: 187331.03 | E11: 787.702 | F11: 179932.94 | G11: 8148.538 | H11: 57.326 | K11: 24951.792 | L11: 412.773
A12: 37226 | B12: =+D12+G12+I12+M12 -> 202757.45 | C12: =+E12+H12+J12+N12 -> 876.752 | D12: 194185.41 | E12: 819.071 | F12: 186492.02 | G12: 8572.041 | H12: 57.681 | K12: 25880.52 | L12: 367.833
A13: 37316 | B13: =+D13+G13+I13+M13 -> 211135.32 | C13: =+E13+H13+J13+N13 -> 939.276 | D13: 202210.02 | E13: 874.551 | F13: 194388.42 | G13: 8925.305 | H13: 64.725 | K13: 27380.946 | L13: 404.935
A14: 37408 | B14: =+D14+G14+I14+M14 -> 222621.29 | C14: =+E14+H14+J14+N14 -> 986.618 | D14: 213212.38 | E14: 920.194 | F14: 204901.38 | G14: 9408.908 | H14: 66.424 | K14: 27722.678 | L14: 420.423
A15: 37500 | B15: =+D15+G15+I15+M15 -> 231557.9 | C15: =+E15+H15+J15+N15 -> 1035.595 | D15: 221766.04 | E15: 968.043 | F15: 213241.7 | G15: 9791.86 | H15: 67.552 | K15: 27332.016 | L15: 436.281
A16: 37591 | B16: =+D16+G16+I16+M16 -> 231703.97 | C16: =+E16+H16+J16+N16 -> 996.33 | D16: 221473.12 | E16: 930.601 | F16: 212552.93 | G16: 10230.85 | H16: 65.729 | K16: 27134.576 | L16: 418.523
A17: 37681 | B17: =+D17+G17+I17+M17 -> 240759.88 | C17: =+E17+H17+J17+N17 -> 999.368 | D17: 230015.17 | E17: 930.447 | F17: 221321.95 | G17: 10744.709 | H17: 68.921 | K17: 27564.676 | L17: 430.218
A18: 37773 | B18: =+D18+G18+I18+M18 -> 253252.09 | C18: =+E18+H18+J18+N18 -> 969.084 | D18: 241683.5 | E18: 896.356 | F18: 233014.66 | G18: 11568.586 | H18: 72.728 | K18: 27957.184 | L18: 478.063
... A32: 39052 | B32: =+D32+G32+I32+M32 -> 543287.47 | C32: =+E32+H32+J32+N32 -> 2135.114 | D32: 518340.22 | E32: 1971.264 | F32: 504069.66 | G32: 24947.252 | H32: 163.85 | K32: 39180.6 | L32: 796.535
A33: 39142 | B33: =+D33+G33+I33+M33 -> 700534.71 | C33: =+E33+H33+J33+N33 -> 4799.549 | D33: 539192.8 | E33: 2340.436 | F33: 525665.68 | G33: 25584.638 | H33: 183.628 | I33: 77326.532 | J33: 1722.151 | K33: 39992.584 | L33: 820.62 | M33: 58430.747 | N33: 553.334
A34: 39234 | B34: =+D34+G34+I34+M34 -> 733269.08 | C34: =+E34+H34+J34+N34 -> 5549.45 | D34: 561584.57 | E34: 2662.499 | F34: 546652.87 | G34: 26371.036 | H34: 206.856 | I34: 84346.862 | J34: 1959.625 | K34: 45233.5 | L34: 1010.365 | M34: 60966.619 | N34: 720.47
A35: 39326 | B35: =+D35+G35+I35+M35 -> 745715.3 | C35: =+E35+H35+J35+N35 -> 6591.775 | D35: 576463.22 | E35: 3423.129 | F35: 561512.92 | G35: 27060.288 | H35: 238.571 | I35: 85299.076 | J35: 2234.355 | K35: 45575.572 | L35: 1144.522 | M35: 56892.712 | N35: 695.72
A36: 39417 | B36: =+D36+G36+I36+M36 -> 764562.28 | C36: =+E36+H36+J36+N36 -> 7449.706 | D36: 589124.35 | E36: 3964.822 | F36: 574312.5 | G36: 27368.656 | H36: 244.217 | I36: 89165.491 | J36: 2516.748 | K36: 47388.516 | L36: 1276.606 | M36: 58903.779 | N36: 723.919
A37: 39508 | B37: =+D37+G37+I37+M37 -> 776762.62 | C37: =+E37+H37+J37+N37 -> 9840.035 | D37: 599363.18 | E37: 5599.642 | F37: 584509.24 | G37: 27958.912 | H37: 323.775 | I37: 89637.348 | J37: 3047.104 | K37: 48030.968 | L37: 1557.345 | M37: 59803.184 | N37: 869.514
A38: 39600 | B38: =+D38+G38+I38+M38 -> 790252.34 | C38: =+E38+H38+J38+N38 -> 12934.81 | D38: 608598.22 | E38: 7613.069 | F38: 593802.25 | G38: 28558.24 | H38: 452.842 | I38: 91110.803 | J38: 3800.256 | K38: 48264.592 | L38: 1957.794 | M38: 61985.086 | N38: 1068.643
A39: 39692 | B39: =+D39+G39+I39+M39 -> 789451.42 | C39: =+E39+H39+J39+N39 -> 16991.512 | D39: 615002.18 | E39: 10881.964 | F39: 600122.24 | G39: 28620.982 | H39: 630.376 | I39: 88644.499 | J39: 4023.353 | K39: 46332.508 | L39: 1909.846 | M39: 57183.768 | N39: 1455.819
A40: 39783 | B40: =+D40+G40+I40+M40 -> 791740.58 | C40: =+E40+H40+J40+N40 -> 21663.556 | D40: 618406.02 | E40: 14218.773 | F40: 603669.74 | G40: 28298.492 | H40: 731.273 | I40: 86474.496 | J40: 4837.29 | K40: 44679.744 | L40: 2108.257 | M40: 58561.573 | N40: 1876.22
A41: 39873 | B41: =+D41+G41+I41+M41 -> 782046.17 | C41: =+E41+H41+J41+N41 -> 25863.356 | D41: 613552.97 | E41: 16817.208 | F41: 600599.96 | G41: 29484.924 | H41: 959.36 | I41: 83064.248 | J41: 5925.82 | K41: 41568.872 | L41: 2820.084 | M41: 55944.022 | N41: 2160.968
A42: 39965 | B42: =+D42+G42+I42+M42 -> 788637.98 | C42: =+E42+H42+J42+N42 -> 27201.353 | D42: 612602.99 | E42: 17793.824 | F42: 599892.88 | G42: 30455.358 | H42: 990.857 | I42: 82751.989 | J42: 6148.666 | K42: 40669.848 | L42: 2797.513 | M42: 62827.641 | N42: 2268.006
A43: 40057 | B43: =+D43+G43+I43+M43 -> 784321.58 | C43: =+E43+H43+J43+N43 -> 27822.553 | D43: 613799.59 | E43: 18110.938 | F43: 601464.13 | G43: 30147.934 | H43: 1006.943 | I43: 81740.6 | J43: 6141.189 | K43: 40567.104 | L43: 2789.876 | M43: 58633.454 | N43: 2563.483
A44: 40148 | B44: =+D44+G44+I44+M44 -> 788639.45 | C44: =+E44+H44+J44+N44 -> 26561.65 | D44: 616486.08 | E44: 16994.196 | F44: 603943.87 | G44: 29656.268 | H44: 945.042 | I44: 77896.329 | J44: 5837.397 | K44: 40730.136 | L44: 2814.365 | M44: 64600.768 | N44: 2785.015
... A83: 43709 | B83: =+D83+G83+I83+M83 -> 613051.83 | C83: =+E83+H83+J83+N83 -> 26657.92 | D83: 485148.27 | E83: 16312.883 | F83: 479496.48 | G83: 17574.931 | H83: 1000.575 | I83: 69169 | J83: 3419.666 | K83: 41265.474 | L83: 1357.754 | M83: 41159.629 | N83: 5924.796
A84: 43800 | B84: =+D84+G84+I84+M84 -> 612454.82 | C84: =+E84+H84+J84+N84 -> 25336.802 | D84: 483473.47 | E84: 15434.167 | F84: 477605.22 | G84: 17000.347 | H84: =[1]Rehabilitación!I89/1000 -> 939.989 | I84: 71127.558 | J84: 3263.415 | K84: 42634.919 | L84: 1371.65 | M84: 40853.443 | N84: 5699.231
A85: 43891 | B85: =+D85+G85+I85+M85 -> 609944.84 | C85: =+E85+H85+J85+N85 -> 25628.363 | D85: 481134.47 | E85: 15445.077 | F85: 475034.78 | G85: 16751.993 | H85: =[1]Rehabilitación!I90/1000 -> 881.8 | I85: 71169.973 | J85: 3609.818 | K85: 45016.059 | L85: 1488.35 | M85: 40888.41 | N85: 5691.668
A86: 43983 | B86: =+D86+G86+I86+M86 -> 613745.58 | C86: =+E86+H86+J86+N86 -> 26022.795 | D86: 478616.75 | E86: 15480.811 | F86: 472837.03 | G86: 16547.931 | H86: =[1]Rehabilitación!I91/1000 -> 950.722 | I86: 71069.675 | J86: 3964.427 | K86: 45310.583 | L86: 1780.227 | M86: 47511.227 | N86: 5626.835
A87: 44075 | B87: =+D87+G87+I87+M87 -> 604378.23 | C87: =+E87+H87+J87+N87 -> 24714.106 | D87: 477778.34 | E87: 14480.102 | F87: 471871.94 | G87: 16314.454 | H87: =[1]Rehabilitación!I92/1000 -> 930.575 | I87: 70077.175 | J87: 4086.019 | K87: 44616.604 | L87: 1699.335 | M87: 40208.257 | N87: 5217.41
A88: 44166 | B88: =+D88+G88+I88+M88 -> 609399.8 | C88: =+E88+H88+J88+N88 -> 23804.373 | D88: 477876.75 | E88: 13900.239 | F88: 472058.39 | G88: 16074.498 | H88: =[1]Rehabilitación!I93/1000 -> 888.459 | I88: 75545.79 | J88: 4012.703 | K88: 49727.236 | L88: 1845.061 | M88: 39902.758 | N88: 5002.972
A89: 44256 | B89: =+D89+G89+I89+M89 -> 608807.52 | C89: =+E89+H89+J89+N89 -> 23907.221 | D89: 478570.21 | E89: 13864.046 | F89: 472694.03 | G89: 15833.827 | H89: 867.726 | I89: 74407.293 | J89: 4182.482 | K89: 49325.95 | L89: 1935.921 | M89: 39996.197 | N89: 4992.967
A90: 44348 | B90: =+D90+G90+I90+M90 -> 620893.77 | C90: =+E90+H90+J90+N90 -> 23339.244 | D90: 481368.04 | E90: 13617.452 | F90: 475464.14 | G90: 15660.182 | H90: 841.127 | I90: 76624.867 | J90: 3969.942 | K90: 51151.727 | L90: 1970.578 | M90: 47240.682 | N90: 4910.723
A91: 44440 | B91: =+D91+G91+I91+M91 -> 612878.01 | C91: =+E91+H91+J91+N91 -> 23015.913 | D91: 481917.44 | E91: 13314.305 | F91: 475794.92 | G91: 15598.634 | H91: 828.341 | I91: 75176.923 | J91: 3980.668 | K91: 49608.684 | L91: 2001.438 | M91: 40185.01 | N91: 4892.599
A92: 44531 | B92: =+D92+G92+I92+M92 -> 613142.27 | C92: =+E92+H92+J92+N92 -> 22355.445 | D92: 483322.73 | E92: 13121.574 | F92: 477419.47 | G92: 16722.277 | H92: 793.177 | I92: 75251.379 | J92: 4006.613 | K92: 49688.446 | L92: 2064.926 | M92: 37845.887 | N92: 4434.081
A93: 44621 | B93: =+D93+G93+I93+M93 -> 614383.71 | C93: =+E93+H93+J93+N93 -> 21561.343 | D93: 485132.81 | E93: 12894.613 | F93: 479139.82 | G93: 16360.477 | H93: 791 | I93: 72534.508 | J93: 3717.914 | K93: 48509.308 | L93: 2134.892 | M93: 40355.915 | N93: 4157.816
A94: 44713 | B94: =+D94+G94+I94+M94 -> 626679.96 | C94: =+E94+H94+J94+N94 -> 19455.117 | D94: 486889.64 | E94: 11691.758 | F94: 481139.21 | G94: 16364.785 | H94: 740.35 | I94: 73214.663 | J94: 3592.211 | K94: 49389.714 | L94: 2191.886 | M94: 50210.872 | N94: 3430.798
A95: 44805 | B95: =+D95+G95+I95+M95 -> 616811.79 | C95: =+E95+H95+J95+N95 -> 18632.717 | D95: 486673.74 | E95: 11125.347 | F95: 480934.42 | G95: 16258.211 | H95: 693.661 | I95: 74524.207 | J95: 3729.117 | K95: 49231.961 | L95: 2170.299 | M95: 39355.629 | N95: 3084.592
A96: 44896 | B96: =+D96+G96+I96+M96 -> 613389.51 | C96: =+E96+H96+J96+N96 -> 16937.603 | D96: 483251.86 | E96: 10117.878 | F96: 477810.02 | G96: 16165.031 | H96: 605.102 | I96: 75112.419 | J96: 3300.051 | K96: 49545.019 | L96: 1889.068 | M96: 38860.199 | N96: 2914.572
A97: 44986 | B97: =+D97+G97+I97+M97 -> 607775.76 | C97: =+E97+H97+J97+N97 -> 16704.853 | D97: 477783.25 | E97: 10016.067 | F97: 472611.04 | G97: 15922.278 | H97: 585.901 | I97: 74357.799 | J97: 3298.222 | K97: 50742.582 | L97: 1917.594 | M97: 39712.433 | N97: 2804.663
A98: 45078 | B98: =+D98+G98+I98+M98 -> 615078.96 | C98: =+E98+H98+J98+N98 -> 17188.841 | D98: 474416.34 | E98: 10358.732 | F98: 469406.92 | G98: 15639.726 | H98: 585.285 | I98: 74947.768 | J98: 3478.398 | K98: 51744 | L98: 2087.851 | M98: 50075.124 | N98: 2766.426
A99: 45170 | B99: =+D99+G99+I99+M99 -> 601824.45 | C99: =+E99+H99+J99+N99 -> 17574.64 | D99: 471894.52 | E99: 10835.275 | F99: 467005.37 | G99: 15334.863 | H99: 586.74 | I99: 75240.93 | J99: 3395.371 | K99: 52132.337 | L99: 2018.682 | M99: 39354.134 | N99: 2757.254
A100: 45261 | B100: =+D100+G100+I100+M100 -> 599149.54 | C100: =+E100+H100+J100+N100 -> 17385.871 | D100: 468871.09 | E100: 10903.88 | F100: 464044.81 | G100: 15255.405 | H100: 562.712 | I100: 76444.772 | J100: 3389.59 | K100: 52563.956 | L100: 2088.286 | M100: 38578.281 | N100: 2529.689
... A108: 45992 | B108: =+D108+G108+I108+M108 -> 633259.05 | C108: =+E108+H108+J108+N108 -> 13562.327 | D108: 489939.91 | E108: 8048.2 | F108: 484966.01 | G108: 14618.874 | H108: 393.016 | I108: 91871.811 | J108: 3562.041 | K108: 65527.161 | L108: 2298.829 | M108: 36828.458 | N108: 1559.07
A109: 46082 | D109: 493948.69 | E109: 7288.868 | F109: 489252.63 | G109: 14719.407 | H109: 384.67 | I109: 93705.923 | J109: 3719.606 | K109: 67922.154 | L109: 2417.106 | M109: 35202.387 | N109: 1486.101
A112: 1 Hasta diciembre de 2013 se incluyen créditos con garantía hipotecaria. Después de esta fecha se incluyen créditos que cuenten con una garantía real inmobiliaria, incluidas las instrumentadas como arrendamientos financieros, cualquiera que sea el inmueble recibido en garantía
A113: 2 Recoge los préstamos y créditos a hogares concedidos para finalidades distintas del crédito al consumo y a la vivienda, tales como educación.

Sheet E.F.C.
A1: Crédito a los hogares. EFCs (Millones de Euros)
B3: TOTAL HOGARES (1)=(2)+(4)+(5)+(6) | D3: CLASIFICACIÓN POR FUNCIONES DE GASTO
D4: ADQUISICIÓN DE VIVIENDA (2) | F4: ADQUISICIÓN VIVIENDA CON GARANTÍA INMOBILIARIA 1 (3) | G4: REHABILITACIÓN DE VIVIENDA (4) | I4: ADQUISICIÓN BIENES DE CONSUMO (5) | M4: RESTO DE FINANCIACIÓN A HOGARES 2 (6)
K5: ADQUISICIÓN BIENES CONSUMO DURADERO
C6: Del que dudosos | E6: Del que dudosos | H6: Del que dudosos | J6: Del que dudosos | L6: Del que dudosos | N6: Del que dudosos
A7: 36770 | B7: =+D7+G7+I7+M7 -> 2654.46 | C7: =+E7+H7+J7+N7 -> 19.973 | D7: 2627.101 | E7: 19.358 | F7: 2562.354 | G7: 27.359 | H7: 0.615 | K7: 5886.24 | L7: 163.491
A8: 36861 | B8: =+D8+G8+I8+M8 -> 2783.453 | C8: =+E8+H8+J8+N8 -> 24.424 | D8: 2754.755 | E8: 23.784 | F8: 2680.273 | G8: 28.698 | H8: 0.64 | K8: 6147.357 | L8: 166.705
A9: 36951 | B9: =+D9+G9+I9+M9 -> 2905.528 | C9: =+E9+H9+J9+N9 -> 26.404 | D9: 2872.162 | E9: 25.798 | F9: 2791.244 | G9: 33.366 | H9: 0.606 | K9: 6128.401 | L9: 171.067
A10: 37043 | B10: =+D10+G10+I10+M10 -> 3062.504 | C10: =+E10+H10+J10+N10 -> 26.634 | D10: 3026.326 | E10: 25.906 | F10: 2880.691 | G10: 36.178 | H10: 0.728 | K10: 6671.185 | L10: 167.052
A11: 37135 | B11: =+D11+G11+I11+M11 -> 3251.612 | C11: =+E11+H11+J11+N11 -> 28.49 | D11: 3212.569 | E11: 27.64 | F11: 3111.604 | G11: 39.043 | H11: 0.85 | K11: 6873.125 | L11: 171.238
A12: 37226 | B12: =+D12+G12+I12+M12 -> 3016.162 | C12: =+E12+H12+J12+N12 -> 30.994 | D12: 2989.854 | E12: 30.258 | F12: 2868.38 | G12: 26.308 | H12: 0.736 | K12: 7194.416 | L12: 223.498
A13: 37316 | B13: =+D13+G13+I13+M13 -> 3201.934 | C13: =+E13+H13+J13+N13 -> 28.261 | D13: 3177.835 | E13: 27.45 | F13: 3175.138 | G13: 24.099 | H13: 0.811 | K13: 7288.92 | L13: 226.644
A14: 37408 | B14: =+D14+G14+I14+M14 -> 2883.466 | C14: =+E14+H14+J14+N14 -> 28.867 | D14: 2851.254 | E14: 27.929 | F14: 2717.407 | G14: 32.212 | H14: 0.938 | K14: 7742.127 | L14: 334.164
A15: 37500 | B15: =+D15+G15+I15+M15 -> 3093.561 | C15: =+E15+H15+J15+N15 -> 32.081 | D15: 3066.679 | E15: 31.172 | F15: 2967.517 | G15: 26.882 | H15: 0.909 | K15: 7738.591 | L15: 320.971
A16: 37591 | B16: =+D16+G16+I16+M16 -> 3364.501 | C16: =+E16+H16+J16+N16 -> 30.605 | D16: 3339.277 | E16: 29.913 | F16: 3238.763 | G16: 25.224 | H16: 0.692 | K16: 7604.923 | L16: 244.757
A17: 37681 | B17: =+D17+G17+I17+M17 -> 3720.3 | C17: =+E17+H17+J17+N17 -> 32.562 | D17: 3696.16 | E17: 31.839 | F17: 3569.454 | G17: 24.14 | H17: 0.723 | K17: 7344.04 | L17: 247.12
A18: 37773 | B18: =+D18+G18+I18+M18 -> 2740.735 | C18: =+E18+H18+J18+N18 -> 33.69 | D18: 2713.262 | E18: 32.966 | F18: 2689.644 | G18: 27.473 | H18: 0.724 | K18: 7716.821 | L18: 251.313
... A32: 39052 | B32: =+D32+G32+I32+M32 -> 5432.365 | C32: =+E32+H32+J32+N32 -> 197.807 | D32: 5235.389 | E32: 192.875 | F32: 5071.812 | G32: 196.976 | H32: 4.932 | K32: 12278.911 | L32: 348.625
A33: 39142 | B33: =+D33+G33+I33+M33 -> 25622.968 | C33: =+E33+H33+J33+N33 -> 975.247 | D33: 5977.072 | E33: 198.561 | F33: 5729.817 | G33: 214.883 | H33: 4.971 | I33: 16425.151 | J33: 579.556 | K33: 12718.994 | L33: 364.231 | M33: 3005.862 | N33: 192.159
A34: 39234 | B34: =+D34+G34+I34+M34 -> 21436.102 | C34: =+E34+H34+J34+N34 -> 1012.813 | D34: 5457.671 | E34: 219.199 | F34: 5136.734 | G34: 221.699 | H34: 6.053 | I34: 12792.228 | J34: 582.099 | K34: 8662.664 | L34: 327.386 | M34: 2964.504 | N34: 205.462
A35: 39326 | B35: =+D35+G35+I35+M35 -> 22460.37 | C35: =+E35+H35+J35+N35 -> 1176.771 | D35: 6021.613 | E35: 249.741 | F35: 5684.823 | G35: 226.167 | H35: 7.967 | I35: 12958.738 | J35: 689.807 | K35: 8457.781 | L35: 382.425 | M35: 3253.852 | N35: 229.256
A36: 39417 | B36: =+D36+G36+I36+M36 -> 24666.114 | C36: =+E36+H36+J36+N36 -> 1347.452 | D36: 6784.617 | E36: 278.039 | F36: 6406.33 | G36: 242.668 | H36: 8.232 | I36: 14208.145 | J36: 763.321 | K36: 9186.218 | L36: 417.27 | M36: 3430.684 | N36: 297.86
A37: 39508 | B37: =+D37+G37+I37+M37 -> 25473.35 | C37: =+E37+H37+J37+N37 -> 1584.306 | D37: 7422.528 | E37: 347.104 | F37: 7034.22 | G37: 244.443 | H37: 12.111 | I37: 14191.146 | J37: 879.7 | K37: 9324.742 | L37: 484.868 | M37: 3615.233 | N37: 345.391
A38: 39600 | B38: =+D38+G38+I38+M38 -> 26799.3 | C38: =+E38+H38+J38+N38 -> 1864.196 | D38: 7867.162 | E38: 408.964 | F38: 7474.761 | G38: 241.466 | H38: 13.617 | I38: 15034.6 | J38: 1054.972 | K38: 9459.895 | L38: 540.978 | M38: 3656.072 | N38: 386.643
A39: 39692 | B39: =+D39+G39+I39+M39 -> 27280.78 | C39: =+E39+H39+J39+N39 -> 2302.723 | D39: 8077.874 | E39: 514.895 | F39: 7689.541 | G39: 235.893 | H39: 12.868 | I39: 15686.081 | J39: 1340.366 | K39: 9525.196 | L39: 691.118 | M39: 3280.932 | N39: 434.594
A40: 39783 | B40: =+D40+G40+I40+M40 -> 27648.804 | C40: =+E40+H40+J40+N40 -> 2682.26 | D40: 8192.953 | E40: 617.043 | F40: 7810.226 | G40: 226.012 | H40: 12.644 | I40: 15854.213 | J40: 1474.915 | K40: 9494.588 | L40: 764.67 | M40: 3375.626 | N40: 577.658
A41: 39873 | B41: =+D41+G41+I41+M41 -> 26647.008 | C41: =+E41+H41+J41+N41 -> 3266.026 | D41: 8237.691 | E41: 831.385 | F41: 7883.757 | G41: 198.644 | H41: 15.957 | I41: 15212.613 | J41: 1749.038 | K41: 8989.951 | L41: 879.373 | M41: 2998.06 | N41: 669.646
A42: 39965 | B42: =+D42+G42+I42+M42 -> 26407.956 | C42: =+E42+H42+J42+N42 -> 3478.979 | D42: 8296.8 | E42: 858.671 | F42: 7933.813 | G42: 188.017 | H42: 15.847 | I42: 15016.222 | J42: 1855.034 | K42: 8911.258 | L42: 961.917 | M42: 2906.917 | N42: 749.427
A43: 40057 | B43: =+D43+G43+I43+M43 -> 25805.2 | C43: =+E43+H43+J43+N43 -> 3375.072 | D43: 8302.152 | E43: 807.372 | F43: 7927.256 | G43: 163.69 | H43: 5.543 | I43: 14257.163 | J43: 1833.557 | K43: 9271.67 | L43: 1076.729 | M43: 3082.195 | N43: 728.6
A44: 40148 | B44: =+D44+G44+I44+M44 -> 25277.124 | C44: =+E44+H44+J44+N44 -> 3369.558 | D44: 8247.619 | E44: 934.684 | F44: 7866.343 | G44: 154.759 | H44: 5.204 | I44: 14492.821 | J44: 1805.942 | K44: 8541.002 | L44: 940.898 | M44: 2381.925 | N44: 623.728
... A109: 46082 | B109: =+D109+G109+I109+M109 -> 29522.065 | C109: =+E109+H109+J109+N109 -> 1708.288 | D109: 6610.333 | E109: 697.59 | F109: 6456.994 | G109: 389.909 | H109: 19.498 | I109: 21036.235 | J109: 823.178 | K109: 11659.59 | L109: 423.063 | M109: 1485.588 | N109: 168.022
A112: 1 Hasta diciembre de 2013 se incluyen créditos con garantía hipotecaria. Después de esta fecha se incluyen créditos que cuenten con una garantía real inmobiliaria, incluidas las instrumentadas como arrendamientos financieros, cualquiera que sea el inmueble recibido en garantía
A113: 2 Recoge los préstamos y créditos a hogares concedidos para finalidades distintas del crédito al consumo y a la vivienda, tales como educación.
